BEGIN:VCALENDAR
VERSION:2.0
PRODID:-//hacksw/handcal//NONSGML v1.0//EN
CALSCALE:GREGORIAN
BEGIN:VTIMEZONE
TZID:Europe/Berlin
X-LIC-LOCATION:Europe/Berlin
BEGIN:DAYLIGHT
TZOFFSETFROM:+0100
TZOFFSETTO:+0200
TZNAME:CEST
DTSTART:19700329T020000
RRULE:FREQ=YEARLY;BYDAY=-1SU;BYMONTH=3
END:DAYLIGHT
BEGIN:STANDARD
TZOFFSETFROM:+0200
TZOFFSETTO:+0100
TZNAME:CET
DTSTART:19701025T030000
RRULE:FREQ=YEARLY;BYDAY=-1SU;BYMONTH=10
END:STANDARD
END:VTIMEZONE
BEGIN:VEVENT
DTEND;TZID=Europe/Berlin:20250919T180000
UID:69e7837d36ebe
DTSTAMP:20260421T160237
LOCATION:Martin-Luther-Gemeindezentrum 
DESCRIPTION:Komm\, wir bauen einen Drachen! \r\n\r\nWann?\r\nDonnerstag\, 19.09.\r\n16:00 – 19:00 Uhr\r\n\r\nWo?\r\nMartin-Luther-Gemeindezentrum\r\nMartin-Luther Straße 20\r\n36199 Rotenburg\r\n\r\nWas machen wir?\r\nWir bauen gemeinsam bunte Schlittendrachen – leicht\, stabil und perfekt zum Herbststart!\r\nAlle Materialien sind im Beitrag enthalten. Nach dem Basteln machen wir eine kleine Wanderung\, um unsere Drachen gleich steigen zu lassen.\r\n\r\nFür wen?\r\nKinder ab 6 Jahren\r\n\r\nKosten:\r\n4\,00 € inkl. aller Materialien\, sowie Getränke & Snacks\r\nDa die Veranstaltung das Ergebnis eines Kooperationsprojektes ist\, bitten wir\, von einer Überweisung abzusehen und den Betrag vor Ort bar zu entrichten.\r\n\r\nMitbringen:\r\n– Kleidung\, die auch mal Kleber oder Farbe abbekommen darf\r\n– Gute Laune und Lust auf Drachensteigen
URL;VALUE=URI:https://www.unser-ferienprogramm.de/rotenburg/veranstaltung.php?id=291359
SUMMARY:Kreativ in den Herbst - Drachenbau
DTSTART;TZID=Europe/Berlin:20250919T160000
END:VEVENT

END:VCALENDAR
