BEGIN:VCALENDAR
VERSION:2.0
PRODID:-//hacksw/handcal//NONSGML v1.0//EN
CALSCALE:GREGORIAN
BEGIN:VTIMEZONE
TZID:Europe/Berlin
X-LIC-LOCATION:Europe/Berlin
BEGIN:DAYLIGHT
TZOFFSETFROM:+0100
TZOFFSETTO:+0200
TZNAME:CEST
DTSTART:19700329T020000
RRULE:FREQ=YEARLY;BYDAY=-1SU;BYMONTH=3
END:DAYLIGHT
BEGIN:STANDARD
TZOFFSETFROM:+0200
TZOFFSETTO:+0100
TZNAME:CET
DTSTART:19701025T030000
RRULE:FREQ=YEARLY;BYDAY=-1SU;BYMONTH=10
END:STANDARD
END:VTIMEZONE
BEGIN:VEVENT
DTEND;TZID=Europe/Berlin:20260602T180000
UID:69e9de1a56686
DTSTAMP:20260423T105346
LOCATION:Haus der Jugend\, Breitenstr. 49
DESCRIPTION:Kickerturnier im Jugendzentrum\r\nAn die Stangen\, fertig\, los!\r\nZeigt euer Können am Kickertisch\, tretet im Team gegen andere Kids an und holt euch den Sieg! Für alle von 12 -17– mit Spaß\, kleinen Preisen und guter Stimmung.\r\nSei dabei – wir freuen uns auf euch\r\n
URL;VALUE=URI:https://www.unser-ferienprogramm.de/rotenburg/veranstaltung.php?id=279113
SUMMARY:Tischkickerturnier im Haus der Jugend
DTSTART;TZID=Europe/Berlin:20260602T140000
END:VEVENT

END:VCALENDAR
