BEGIN:VCALENDAR
VERSION:2.0
PRODID:-//hacksw/handcal//NONSGML v1.0//EN
CALSCALE:GREGORIAN
BEGIN:VTIMEZONE
TZID:Europe/Berlin
X-LIC-LOCATION:Europe/Berlin
BEGIN:DAYLIGHT
TZOFFSETFROM:+0100
TZOFFSETTO:+0200
TZNAME:CEST
DTSTART:19700329T020000
RRULE:FREQ=YEARLY;BYDAY=-1SU;BYMONTH=3
END:DAYLIGHT
BEGIN:STANDARD
TZOFFSETFROM:+0200
TZOFFSETTO:+0100
TZNAME:CET
DTSTART:19701025T030000
RRULE:FREQ=YEARLY;BYDAY=-1SU;BYMONTH=10
END:STANDARD
END:VTIMEZONE
BEGIN:VEVENT
DTEND;TZID=Europe/Berlin:20250810T180000
UID:69e76c71d2a32
DTSTAMP:20260421T142417
LOCATION:Niedergude\, Gudetalhalle\, Raiffeisenstraße
DESCRIPTION:So ein Theater!\r\nHier dreht sich an diesem Tag alles um "tierisches" Theater. \r\nIhr Könnt  viel  mitmachen und ausprobieren\, Schattenspiele kennenlernen\, eigene kurze Szenen spielen\, Geschichten über Kühe\, Schweine\, Ziegen und Katzen aus dem Schaukelstuhl lauschen oder die Geräusche Bude kennenlernen.\r\nWer sich nicht auf die große Bühne traut\, hat die Möglichkeit sich am Basteln von Sockenpuppen auszuprobieren.\r\n( Groß-) Eltern sind an diesem Tag ausdrücklich erwünscht\, können sich beteiligen\, ihre eigene künstlerische Ader entdecken oder sich einfach nur gut bewirten lassen.\r\n\r\nVeranstalter sind der Heimat- und Kulturverein Gudegrund e.V. in Kooperation mit der  kommunale Jugendpflege der Gemeinde Alheim.\r\n\r\nDie Gebühren werden am Tag der Veranstaltung in Niedergude eingesammelt.
URL;VALUE=URI:https://www.unser-ferienprogramm.de/rotenburg/veranstaltung.php?id=273133
SUMMARY:Ferienspielsonntag
DTSTART;TZID=Europe/Berlin:20250810T140000
END:VEVENT

END:VCALENDAR
