BEGIN:VCALENDAR
VERSION:2.0
PRODID:-//hacksw/handcal//NONSGML v1.0//EN
CALSCALE:GREGORIAN
BEGIN:VTIMEZONE
TZID:Europe/Berlin
X-LIC-LOCATION:Europe/Berlin
BEGIN:DAYLIGHT
TZOFFSETFROM:+0100
TZOFFSETTO:+0200
TZNAME:CEST
DTSTART:19700329T020000
RRULE:FREQ=YEARLY;BYDAY=-1SU;BYMONTH=3
END:DAYLIGHT
BEGIN:STANDARD
TZOFFSETFROM:+0200
TZOFFSETTO:+0100
TZNAME:CET
DTSTART:19701025T030000
RRULE:FREQ=YEARLY;BYDAY=-1SU;BYMONTH=10
END:STANDARD
END:VTIMEZONE
BEGIN:VEVENT
DTEND;TZID=Europe/Berlin:20250516T190000
UID:69e784b9dc7e2
DTSTAMP:20260421T160753
LOCATION:Haus der Jugend - Breitenstraße 49
DESCRIPTION:Am 16. Mai laden wir Kinder herzlich zu einem besonderen Naturerlebnis ein!\r\n\r\nWir starten um 16:00 Uhr im Haus der Jugend\, wo wir gemeinsam Seedbombs basteln – kleine Samenbällchen voller Blumenfreude!\r\n\r\nAnschließend begeben wir uns auf eine kleine Wanderung durch den Schlosspark und die Fuldawiesen. Hier können die Kinder ihre Seedbombs ausbringen und der Natur etwas Gutes tun – natürlich können sie sie aber auch mit nach Hause nehmen.\r\n\r\nUnser Ziel ist das AWO Altenzentrum in der Dickenrücker Straße. Dort legen wir zusammen mit den Kindern ein blühendes Blumenbeet an. Dabei gibt es spannende Infos rund um die Pflanzenwelt.\r\n\r\nZum Abschluss genießen wir ein gemütliches Picknick im Grünen. Die Abholung der Kinder erfolgt gegen 19:00 Uhr direkt am Altenzentrum.\r\n\r\nWas erwartet dich?\r\n- Seedbombs zum mitnehmen\r\n- eine kreative Mitmach-Aktion \r\n- ein Picknick mit Snacks und Getränken \r\n\r\nWann?\r\n- Datum: 16. Mai 2025\r\n- Uhrzeit: 16:00 Uhr - 19.00 Uhr\r\n\r\nWo?\r\nDie Aktion startet am Haus der Jugend Rotenburg. Die Abholung der Kinder erfolgt am AWO-Seniorenzentrum in der Dickenrücker Straße.\r\n\r\nWer?\r\nAlle Kinder im Alter von 6 - 12 Jahren\r\n\r\nEintritt:\r\n4\,00 € (bitte vor Ort bar bezahlen)\r\n\r\nEin Hinweis für Kinder aus Alheim:\r\nDer Alheimer Bürgerbus steht für die Logistik zur Verfügung. Die Jugendpflegerin Regine Sauer kann euch also unkompliziert mitnehmen und auch wieder nach Alheim bringen. \r\nFragen und Anmeldungen werden von ihr unter r.sauer@alheim.de oder 0178 7621103 separat beantwortet und erfasst.\r\n\r\nKommunale Kinder- und Jugendarbeit Alheim\r\nRegine Sauer\r\nr.sauer@alheim.de\r\n0178 7621103\r\n\r\nKlaus Hartwig\r\nKommunale Kinder- und Jugendarbeit Rotenburg\r\nklaus.hartwig@rotenburg.de\r\n06623 933531\r\n\r\nev. Kinder- und Jugenarbeit Rotenburg/ Alheim\r\nJulia Gottschalk\r\njulia.gottschalk@ekkw.de\r\n0151272139819\r\n\r\n\r\n
URL;VALUE=URI:https://www.unser-ferienprogramm.de/rotenburg/veranstaltung.php?id=257702
SUMMARY:Fancy Friday - Frühlings-Pflanzaktion
DTSTART;TZID=Europe/Berlin:20250516T160000
END:VEVENT

END:VCALENDAR
