BEGIN:VCALENDAR
VERSION:2.0
PRODID:-//hacksw/handcal//NONSGML v1.0//EN
CALSCALE:GREGORIAN
BEGIN:VTIMEZONE
TZID:Europe/Berlin
X-LIC-LOCATION:Europe/Berlin
BEGIN:DAYLIGHT
TZOFFSETFROM:+0100
TZOFFSETTO:+0200
TZNAME:CEST
DTSTART:19700329T020000
RRULE:FREQ=YEARLY;BYDAY=-1SU;BYMONTH=3
END:DAYLIGHT
BEGIN:STANDARD
TZOFFSETFROM:+0200
TZOFFSETTO:+0100
TZNAME:CET
DTSTART:19701025T030000
RRULE:FREQ=YEARLY;BYDAY=-1SU;BYMONTH=10
END:STANDARD
END:VTIMEZONE
BEGIN:VEVENT
DTEND;TZID=Europe/Berlin:20250207T210000
UID:69e76c7216e16
DTSTAMP:20260421T142418
LOCATION:Haus der Jugend - Breitenstraße 49
DESCRIPTION:Komm zur großen Faschingsparty im Haus der Jugend Rotenburg! \r\n\r\nDu bist eingeladen zu einer bunten Faschingsdisco voller Spaß\, Musik und Überraschungen! Lass uns gemeinsam feiern\, tanzen und lachen – und vergiss nicht\, dein coolstes Kostüm anzuziehen!\r\n\r\nWas erwartet dich?\r\n- Coole Musik zum Tanzen und Abrocken\r\n- Kostümwettbewerb – Zeig dein kreatives Outfit und gewinne einen tollen Preis!\r\n- Jede Menge Spaß\, lustige Spiele und Abwechslung mit deinen Freunden\r\n- Snacks & Getränke \r\n\r\nWann?\r\n- Datum: 07. Februar 2024\r\n- Uhrzeit: 18:00 Uhr - 21.00 Uhr\r\n\r\nWo?\r\n- Haus der Jugend Rotenburg\r\n\r\nWer?\r\nAlle Kinder ab der ersten Klasse – Komm\, wie du bist\, oder verkleide dich!\r\n\r\nEintritt:\r\n4\,00 € (bitte vor Ort bar bezahlen)\r\n\r\nMach dich bereit für eine unvergessliche Faschingszeit – wir\, die kommunale Kinder- und Jugendarbeit der Stadt Rotenburg und der Gemeinde Alheim sowie die evangelische Jugend Rotenburg-Alheim\, freuen uns auf dich!\r\n\r\n\r\n
URL;VALUE=URI:https://www.unser-ferienprogramm.de/rotenburg/veranstaltung.php?id=242886
SUMMARY:Fancy Friday - Faschingsdisco
DTSTART;TZID=Europe/Berlin:20250207T180000
END:VEVENT

END:VCALENDAR
