BEGIN:VCALENDAR
VERSION:2.0
PRODID:-//hacksw/handcal//NONSGML v1.0//EN
CALSCALE:GREGORIAN
BEGIN:VTIMEZONE
TZID:Europe/Berlin
X-LIC-LOCATION:Europe/Berlin
BEGIN:DAYLIGHT
TZOFFSETFROM:+0100
TZOFFSETTO:+0200
TZNAME:CEST
DTSTART:19700329T020000
RRULE:FREQ=YEARLY;BYDAY=-1SU;BYMONTH=3
END:DAYLIGHT
BEGIN:STANDARD
TZOFFSETFROM:+0200
TZOFFSETTO:+0100
TZNAME:CET
DTSTART:19701025T030000
RRULE:FREQ=YEARLY;BYDAY=-1SU;BYMONTH=10
END:STANDARD
END:VTIMEZONE
BEGIN:VEVENT
DTEND;TZID=Europe/Berlin:20250315T190000
UID:69e77b6107584
DTSTAMP:20260421T152801
LOCATION:Großsporthalle Rotenburg a. d. Fulda
DESCRIPTION:Die Rotenburger Juggergemeinde und der Arbeitskreis Jugendarbeit und Schule läd zum 85. Jugger Event für jedermann und jederfrau ein.\r\n\r\nWas ist Jugger?\r\nJugger verbindet Elemente aus Individualsportarten wie Fechten und Stockkampf mit Teamsportarten wie American Football und Rugby zu einem hoch-taktischen\, technisch anspruchsvollen und schnellen Sport.\r\n\r\nZiel des Spiels ist es\, den Ball (Jugg) aus der Mitte zu erobern und den eigenen Läufer auf dem Weg zum Tor (Mal) zu schützen. Dazu sind die restlichen Spieler mit gepolsterten Stäben (Pompfen) ausgestattet\, mit denen sie ihre Gegner abschlagen können. Wer getroffen wurde\, kniet ab und scheidet für einige Sekunden aus. Die hohe Dynamik des Sports erfordert Konzentration\, Teamwork und Reaktionsvermögen\, um auf ständige Veränderungen auf dem Feld reagieren zu können.\r\n\r\nDas Event startet um 15 Uhr und soll um 19 Uhr enden. Jeder/Jede (groß/klein/jung/alt) ist eingeladen zum Event.\r\nWer erstmalig am Event teilnimmt\, benötigt eine Einverständniserklärung (bei Minderjährigen unterschrieben von einem Erziehungsberechtigten).\r\n\r\nWeitere Termine:\r\n05.04.25\r\n26.10.25\r\n16.11.25\r\n07.12.25\r\n
URL;VALUE=URI:https://www.unser-ferienprogramm.de/rotenburg/veranstaltung.php?id=203270
SUMMARY:85. Rotenburger Jugger Event
DTSTART;TZID=Europe/Berlin:20250315T150000
END:VEVENT

END:VCALENDAR
