BEGIN:VCALENDAR
VERSION:2.0
PRODID:-//hacksw/handcal//NONSGML v1.0//EN
CALSCALE:GREGORIAN
BEGIN:VTIMEZONE
TZID:Europe/Berlin
X-LIC-LOCATION:Europe/Berlin
BEGIN:DAYLIGHT
TZOFFSETFROM:+0100
TZOFFSETTO:+0200
TZNAME:CEST
DTSTART:19700329T020000
RRULE:FREQ=YEARLY;BYDAY=-1SU;BYMONTH=3
END:DAYLIGHT
BEGIN:STANDARD
TZOFFSETFROM:+0200
TZOFFSETTO:+0100
TZNAME:CET
DTSTART:19701025T030000
RRULE:FREQ=YEARLY;BYDAY=-1SU;BYMONTH=10
END:STANDARD
END:VTIMEZONE
BEGIN:VEVENT
DTEND;TZID=Europe/Berlin:20240224T100000
UID:69e77b6247995
DTSTAMP:20260421T152802
LOCATION:Rotenburg a. d. Fulda
DESCRIPTION:Hier können sie die benötigten Materialien für die jeweilige Pompfe ordern (Materialliste im Anhang). \r\nEine weitere Möglichkeit wäre eine Materialsammelbestellung\, dies würde die Portokosten für das jeweilige \r\nMaterial um ein wesentliches verringern. Die Sammelbestellung und die Anleitung zum Bau der Pompfen würden vom Haus der Jugend Rotenburg a. d. Fulda organisiert. Hierzu müssten sie nur eine verbindliche Bestellung vornehmen. Siehe Anhang.
URL;VALUE=URI:https://www.unser-ferienprogramm.de/rotenburg/veranstaltung.php?id=198380
SUMMARY:Pompfenbau Workshop
DTSTART;TZID=Europe/Berlin:20240224T100000
END:VEVENT

END:VCALENDAR
