BEGIN:VCALENDAR
VERSION:2.0
PRODID:-//hacksw/handcal//NONSGML v1.0//EN
CALSCALE:GREGORIAN
BEGIN:VTIMEZONE
TZID:Europe/Berlin
X-LIC-LOCATION:Europe/Berlin
BEGIN:DAYLIGHT
TZOFFSETFROM:+0100
TZOFFSETTO:+0200
TZNAME:CEST
DTSTART:19700329T020000
RRULE:FREQ=YEARLY;BYDAY=-1SU;BYMONTH=3
END:DAYLIGHT
BEGIN:STANDARD
TZOFFSETFROM:+0200
TZOFFSETTO:+0100
TZNAME:CET
DTSTART:19701025T030000
RRULE:FREQ=YEARLY;BYDAY=-1SU;BYMONTH=10
END:STANDARD
END:VTIMEZONE
BEGIN:VEVENT
DTEND;TZID=Europe/Berlin:20250817T000000
UID:69e769f2c988f
DTSTAMP:20260421T141338
LOCATION:
DESCRIPTION:Wichtig: QR-Code zum selbst-Ausdrucken !!\r\n\r\nAuch in diesem Jahr soll wieder die städtische „Ferienpass-Aktion“ für Kinder aus Rotenburg a. d. Fulda im Alter von 6 bis 14 Jahren durchgeführt werden.\r\n\r\nAlle Kinder aus der Kernstadt und den Stadtteilen von Rotenburg im Alter von 6 bis 14 Jahren können\, wenn sie im Besitz des Ferienpasses sind\, folgende Freizeiteinrichtungen nutzen:\r\n\r\n•\tMinigolf im Schlosspark\r\nvom 07.07.2025 bis um 15.08.2025\r\n\tMontag\, Mittwoch – Freitag täglich für ein Spiel\r\n\r\n•\tWaldschwimmbad \r\nvon Montag\, 07.07.2025 -\r\nSonntag\, 17.08.2025\r\nzum ermäßigten Eintrittspreis von 1\,50 €\r\n\r\n\r\n•\tEinmaliger Eintritt im Kreisheimatmuseum 
URL;VALUE=URI:https://www.unser-ferienprogramm.de/rotenburg/veranstaltung.php?id=193093
SUMMARY:Rotenburger Ferienpass-Aktion 2025
DTSTART;TZID=Europe/Berlin:20250817T000000
END:VEVENT

END:VCALENDAR
