BEGIN:VCALENDAR
VERSION:2.0
PRODID:-//hacksw/handcal//NONSGML v1.0//EN
CALSCALE:GREGORIAN
BEGIN:VTIMEZONE
TZID:Europe/Berlin
X-LIC-LOCATION:Europe/Berlin
BEGIN:DAYLIGHT
TZOFFSETFROM:+0100
TZOFFSETTO:+0200
TZNAME:CEST
DTSTART:19700329T020000
RRULE:FREQ=YEARLY;BYDAY=-1SU;BYMONTH=3
END:DAYLIGHT
BEGIN:STANDARD
TZOFFSETFROM:+0200
TZOFFSETTO:+0100
TZNAME:CET
DTSTART:19701025T030000
RRULE:FREQ=YEARLY;BYDAY=-1SU;BYMONTH=10
END:STANDARD
END:VTIMEZONE
BEGIN:VEVENT
DTEND;TZID=Europe/Berlin:20260419T190000
UID:69e73b2906009
DTSTAMP:20260421T105401
LOCATION:Großsporthalle Rotenburg a. d. Fulda
DESCRIPTION:Die Rotenburger Juggergemeinde und der Arbeitskreis Jugendarbeit und Schule laden euch herzlich zu unserem nächsten Jugger-Event für alle ein!\r\n\r\nJugger ist ein schneller\, spannender Teamsport\, der Elemente aus Fechten und Stockkampf mit Action aus American Football und Rugby kombiniert. Ziel ist es\, den Ball – den Jugg – zu erobern und den eigenen Läufer bis zum Tor (dem Mal) zu bringen. Mit gepolsterten Stäben\, den sogenannten Pompfen\, können Teammitglieder ihre Gegner ausschalten – wer getroffen wird\, kniet kurz ab und ist für ein paar Sekunden raus. Das Spiel erfordert Teamwork\, Konzentration und schnelle Reaktionen\, macht aber vor allem riesigen Spaß!\r\n\r\nLos geht’s von 15:00 bis 19:00 Uhr\, und egal ob groß oder klein\, jung oder alt – jede*r ist willkommen! Wer zum ersten Mal dabei ist\, braucht eine Einverständniserklärung (bei Minderjährigen von den Erziehungsberechtigten unterschrieben).\r\n\r\nMerkt euch schon den nächsten Termin vor:  am Sonntag\, den 17.05.2026.\r\n\r\nKommt vorbei\, bringt Freunde mit und erlebt einen Nachmittag voller Action\, Spaß und Teamgeist!
URL;VALUE=URI:https://www.unser-ferienprogramm.de/rotenburg/veranstaltung.php?id=189240
SUMMARY:Rotenburger Jugger Event
DTSTART;TZID=Europe/Berlin:20260419T150000
END:VEVENT

END:VCALENDAR
