BEGIN:VCALENDAR
VERSION:2.0
PRODID:-//hacksw/handcal//NONSGML v1.0//EN
CALSCALE:GREGORIAN
BEGIN:VTIMEZONE
TZID:Europe/Berlin
X-LIC-LOCATION:Europe/Berlin
BEGIN:DAYLIGHT
TZOFFSETFROM:+0100
TZOFFSETTO:+0200
TZNAME:CEST
DTSTART:19700329T020000
RRULE:FREQ=YEARLY;BYDAY=-1SU;BYMONTH=3
END:DAYLIGHT
BEGIN:STANDARD
TZOFFSETFROM:+0200
TZOFFSETTO:+0100
TZNAME:CET
DTSTART:19701025T030000
RRULE:FREQ=YEARLY;BYDAY=-1SU;BYMONTH=10
END:STANDARD
END:VTIMEZONE
BEGIN:VEVENT
DTEND;TZID=Europe/Berlin:20270101T100000
UID:69e754fa361f6
DTSTAMP:20260421T124410
LOCATION:kleine Turnhalle der Jakob-Grimm-Schule (Braacher Str.)
DESCRIPTION:Bock auf Sport und gute Stimmung? Dann komm zur Sport-AG der Kommunalen Kinder- und Jugendarbeit Rotenburg a. d. Fulda!\r\n\r\nJeden Freitag geht’s bei uns richtig ab – natürlich bei cooler Mucke ????\r\n\r\nSommermonate: 20:00 – 21:30 Uhr\r\nWintermonate: 20:30 – 22:00 Uhr\r\n\r\nIhr könnt alles zocken\, worauf ihr Lust habt: von Spielen aus der Grundschule bis hin zu Fußball\, Volleyball und anderen Team-Sports. Egal ob Anfänger oder Vollprofi – bei uns kann jede*r mitmachen!\r\n\r\nBei uns stehen Spaß\, Bewegung und Teamgeist im Vordergrund – ganz ohne Leistungsdruck.\r\n\r\nWichtig: Du brauchst nur einmal die Einverständniserklärung deiner Eltern.
URL;VALUE=URI:https://www.unser-ferienprogramm.de/rotenburg/veranstaltung.php?id=153212
SUMMARY:Sport AG - Sport für alle -
DTSTART;TZID=Europe/Berlin:20260306T163400
END:VEVENT

END:VCALENDAR
