BEGIN:VCALENDAR
VERSION:2.0
PRODID:-//hacksw/handcal//NONSGML v1.0//EN
CALSCALE:GREGORIAN
BEGIN:VTIMEZONE
TZID:Europe/Berlin
X-LIC-LOCATION:Europe/Berlin
BEGIN:DAYLIGHT
TZOFFSETFROM:+0100
TZOFFSETTO:+0200
TZNAME:CEST
DTSTART:19700329T020000
RRULE:FREQ=YEARLY;BYDAY=-1SU;BYMONTH=3
END:DAYLIGHT
BEGIN:STANDARD
TZOFFSETFROM:+0200
TZOFFSETTO:+0100
TZNAME:CET
DTSTART:19701025T030000
RRULE:FREQ=YEARLY;BYDAY=-1SU;BYMONTH=10
END:STANDARD
END:VTIMEZONE
BEGIN:VEVENT
DTEND;TZID=Europe/Berlin:20250804T160000
UID:69e86f5bdb1b6
DTSTAMP:20260422T084859
LOCATION:Gemeindebibliothek Röthlein
DESCRIPTION:Schokolade selber machen – Montag\, 04. August 2025 in Röthlein\r\n\r\nAm Montag\, den 04. August\, könnt ihr von 14:00 bis 16:00 Uhr in der Gemeindebibliothek Röthlein eure eigene Schokolade herstellen. Wir rühren\, mischen und probieren – und am Ende dürft ihr eure ganz persönliche Schokolade mit nach Hause nehmen.\r\n\r\nBitte denkt daran\, eine Schürze und einen Behälter zum Mitnehmen mitzubringen. Die Teilnahme kostet 5 Euro.\r\n\r\nEin leckerer Ferienvormittag wartet auf euch – seid dabei!
URL;VALUE=URI:https://www.unser-ferienprogramm.de/roethlein/veranstaltung.php?id=288682
SUMMARY:Schokolade selber machen 3
DTSTART;TZID=Europe/Berlin:20250804T140000
END:VEVENT

END:VCALENDAR
