BEGIN:VCALENDAR
VERSION:2.0
PRODID:-//hacksw/handcal//NONSGML v1.0//EN
CALSCALE:GREGORIAN
BEGIN:VTIMEZONE
TZID:Europe/Berlin
X-LIC-LOCATION:Europe/Berlin
BEGIN:DAYLIGHT
TZOFFSETFROM:+0100
TZOFFSETTO:+0200
TZNAME:CEST
DTSTART:19700329T020000
RRULE:FREQ=YEARLY;BYDAY=-1SU;BYMONTH=3
END:DAYLIGHT
BEGIN:STANDARD
TZOFFSETFROM:+0200
TZOFFSETTO:+0100
TZNAME:CET
DTSTART:19701025T030000
RRULE:FREQ=YEARLY;BYDAY=-1SU;BYMONTH=10
END:STANDARD
END:VTIMEZONE
BEGIN:VEVENT
DTEND;TZID=Europe/Berlin:20250807T130000
UID:69e870de683bd
DTSTAMP:20260422T085526
LOCATION:Gemeinde Bibliothek
DESCRIPTION:Von 10:00 bis 13:00 Uhr heißt es: kreativ sein!\r\n\r\nWir malen\, gestalten\, probieren aus und erschaffen unser ganz persönliches Kunstwerk. Ganz egal ob bunt\, verrückt oder ganz still und leise – hier ist Platz für eure Ideen!\r\n\r\nEin toller Vormittag für kleine Künstlerinnen und Künstler.
URL;VALUE=URI:https://www.unser-ferienprogramm.de/roethlein/veranstaltung.php?id=286630
SUMMARY:Experimente 
DTSTART;TZID=Europe/Berlin:20250807T100000
END:VEVENT

END:VCALENDAR
