BEGIN:VCALENDAR
VERSION:2.0
PRODID:-//hacksw/handcal//NONSGML v1.0//EN
CALSCALE:GREGORIAN
BEGIN:VTIMEZONE
TZID:Europe/Berlin
X-LIC-LOCATION:Europe/Berlin
BEGIN:DAYLIGHT
TZOFFSETFROM:+0100
TZOFFSETTO:+0200
TZNAME:CEST
DTSTART:19700329T020000
RRULE:FREQ=YEARLY;BYDAY=-1SU;BYMONTH=3
END:DAYLIGHT
BEGIN:STANDARD
TZOFFSETFROM:+0200
TZOFFSETTO:+0100
TZNAME:CET
DTSTART:19701025T030000
RRULE:FREQ=YEARLY;BYDAY=-1SU;BYMONTH=10
END:STANDARD
END:VTIMEZONE
BEGIN:VEVENT
DTEND;TZID=Europe/Berlin:20250827T150000
UID:69e85931a5b96
DTSTAMP:20260422T071425
LOCATION:Steigerwaldzentrum Handthal
DESCRIPTION:Waldentdecker mit allen Sinnen\r\n\r\nAm Mittwoch\, den 27. August 2025\, sind wir von 9:00 bis 15:00 Uhr im Steigerwaldzentrum Handthal unterwegs. Gemeinsam werden wir zu Entdeckern und erkunden den Wald mit allen Sinnen – wir riechen\, fühlen\, hören und beobachten die Natur ganz genau. Danach geht es zum spannenden Baumwipfelpfad\, wo wir die Welt aus einer ganz neuen Perspektive erleben können.\r\n\r\nTreffpunkt ist die Gemeindebibliothek Röthlein\, von dort fahren wir zusammen mit dem PKW zum Steigerwaldzentrum.\r\n\r\nDie Teilnahme kostet 10 Euro.
URL;VALUE=URI:https://www.unser-ferienprogramm.de/roethlein/veranstaltung.php?id=285947
SUMMARY:Waldentdecker
DTSTART;TZID=Europe/Berlin:20250827T090000
END:VEVENT

END:VCALENDAR
