BEGIN:VCALENDAR
VERSION:2.0
PRODID:-//hacksw/handcal//NONSGML v1.0//EN
CALSCALE:GREGORIAN
BEGIN:VTIMEZONE
TZID:Europe/Berlin
X-LIC-LOCATION:Europe/Berlin
BEGIN:DAYLIGHT
TZOFFSETFROM:+0100
TZOFFSETTO:+0200
TZNAME:CEST
DTSTART:19700329T020000
RRULE:FREQ=YEARLY;BYDAY=-1SU;BYMONTH=3
END:DAYLIGHT
BEGIN:STANDARD
TZOFFSETFROM:+0200
TZOFFSETTO:+0100
TZNAME:CET
DTSTART:19701025T030000
RRULE:FREQ=YEARLY;BYDAY=-1SU;BYMONTH=10
END:STANDARD
END:VTIMEZONE
BEGIN:VEVENT
DTEND;TZID=Europe/Berlin:20250825T160000
UID:69e85611ead47
DTSTAMP:20260422T070105
LOCATION:Kunstraum Gochsheim
DESCRIPTION:Kunstraum in Gochsheim\r\n\r\nAm Montag\, den 25. August 2025\, von 10:00 bis 16:00 Uhr gibt es in Gochsheim einen Kreativtag im Kunstraum. Ihr malt Acrylbilder auf Leinwand zum Thema „Hakuna Matata“\, könnt an Freiarbeitstischen kreativ sein und verschiedene Spielecken entdecken.\r\n\r\nBitte bringt eure Verpflegung mit.\r\n\r\nDie Teilnahme kostet 20 Euro.
URL;VALUE=URI:https://www.unser-ferienprogramm.de/roethlein/veranstaltung.php?id=285946
SUMMARY:Kunstraum Gochsheim
DTSTART;TZID=Europe/Berlin:20250825T100000
END:VEVENT

END:VCALENDAR
