BEGIN:VCALENDAR
VERSION:2.0
PRODID:-//hacksw/handcal//NONSGML v1.0//EN
CALSCALE:GREGORIAN
BEGIN:VTIMEZONE
TZID:Europe/Berlin
X-LIC-LOCATION:Europe/Berlin
BEGIN:DAYLIGHT
TZOFFSETFROM:+0100
TZOFFSETTO:+0200
TZNAME:CEST
DTSTART:19700329T020000
RRULE:FREQ=YEARLY;BYDAY=-1SU;BYMONTH=3
END:DAYLIGHT
BEGIN:STANDARD
TZOFFSETFROM:+0200
TZOFFSETTO:+0100
TZNAME:CET
DTSTART:19701025T030000
RRULE:FREQ=YEARLY;BYDAY=-1SU;BYMONTH=10
END:STANDARD
END:VTIMEZONE
BEGIN:VEVENT
DTEND;TZID=Europe/Berlin:20250823T150000
UID:69e8578353eda
DTSTAMP:20260422T070715
LOCATION:Grundschule Röthlein
DESCRIPTION:Jonglieren wie die Artisten\r\n\r\nAm Samstag\, den 23. August 2025\, von 10:00 bis 12:00 Uhr treffen wir uns an der Grundschule Röthlein\, um die faszinierende Kunst des Jonglierens zu entdecken.\r\n\r\nIhr lernt zuerst\, wie man sicher mit einem Jonglierball umgeht\, werft und fangt ihn richtig. Dann steigern wir uns: mit zwei Bällen üben wir die ersten Jonglierbewegungen\, und wer mag\, probiert sich an drei Bällen – genau wie echte Artisten in der Manege!\r\n\r\nDabei geht es nicht nur um Geschicklichkeit\, sondern auch um Konzentration\, Koordination und ganz viel Spaß.\r\n\r\nEgal\, ob du schon mal jongliert hast oder zum ersten Mal probierst – hier bist du richtig!\r\n\r\nKommt vorbei und erlebt\, wie viel Freude Jonglieren machen kann.
URL;VALUE=URI:https://www.unser-ferienprogramm.de/roethlein/veranstaltung.php?id=285944
SUMMARY:Jonglieren
DTSTART;TZID=Europe/Berlin:20250823T100000
END:VEVENT

END:VCALENDAR
