BEGIN:VCALENDAR
VERSION:2.0
PRODID:-//hacksw/handcal//NONSGML v1.0//EN
CALSCALE:GREGORIAN
BEGIN:VTIMEZONE
TZID:Europe/Berlin
X-LIC-LOCATION:Europe/Berlin
BEGIN:DAYLIGHT
TZOFFSETFROM:+0100
TZOFFSETTO:+0200
TZNAME:CEST
DTSTART:19700329T020000
RRULE:FREQ=YEARLY;BYDAY=-1SU;BYMONTH=3
END:DAYLIGHT
BEGIN:STANDARD
TZOFFSETFROM:+0200
TZOFFSETTO:+0100
TZNAME:CET
DTSTART:19701025T030000
RRULE:FREQ=YEARLY;BYDAY=-1SU;BYMONTH=10
END:STANDARD
END:VTIMEZONE
BEGIN:VEVENT
DTEND;TZID=Europe/Berlin:20250822T160000
UID:69e872b078938
DTSTAMP:20260422T090312
LOCATION:Benevit Gochsheim
DESCRIPTION:Besuch im Altenheim Benevit Gochsheim\r\n\r\nAm Freitag\, den 22. August 2025\, von 14:00 bis 16:00 Uhr besuchen wir das Altenheim Benevit in Gochsheim. Gemeinsam verbringen wir die Kaffeezeit mit den Bewohnern\, singen\, unterhalten uns und spielen zusammen.\r\n\r\nWer hat Lust\, mitzukommen und den Nachmittag zu einem schönen Erlebnis für alle zu machen?\r\n\r\nTreffpunkt ist direkt beim Benevit in Gochsheim.
URL;VALUE=URI:https://www.unser-ferienprogramm.de/roethlein/veranstaltung.php?id=285942
SUMMARY:Benevit Gochsheim
DTSTART;TZID=Europe/Berlin:20250822T140000
END:VEVENT

END:VCALENDAR
