BEGIN:VCALENDAR
VERSION:2.0
PRODID:-//hacksw/handcal//NONSGML v1.0//EN
CALSCALE:GREGORIAN
BEGIN:VTIMEZONE
TZID:Europe/Berlin
X-LIC-LOCATION:Europe/Berlin
BEGIN:DAYLIGHT
TZOFFSETFROM:+0100
TZOFFSETTO:+0200
TZNAME:CEST
DTSTART:19700329T020000
RRULE:FREQ=YEARLY;BYDAY=-1SU;BYMONTH=3
END:DAYLIGHT
BEGIN:STANDARD
TZOFFSETFROM:+0200
TZOFFSETTO:+0100
TZNAME:CET
DTSTART:19701025T030000
RRULE:FREQ=YEARLY;BYDAY=-1SU;BYMONTH=10
END:STANDARD
END:VTIMEZONE
BEGIN:VEVENT
DTEND;TZID=Europe/Berlin:20250822T080000
UID:69e8593483bc6
DTSTAMP:20260422T071428
LOCATION:Gemeindebibliothek Röthlein
DESCRIPTION:Eine Nacht in der Bücherei\r\n\r\nAm Donnerstag\, den 21. August 2025\, verbringen wir von 20:00 bis 8:00 Uhr eine spannende Nacht in der Bücherei. Wir lesen gemeinsam\, erzählen Geschichten und erleben eine ganz besondere Übernachtung.\r\n\r\nBitte bringt Schlafsack\, Unterlage\, Schlafutensilien und Verpflegung mit.\r\n\r\nEin tolles Abenteuer für alle\, die gerne lesen und gemeinsam Spaß haben wollen!
URL;VALUE=URI:https://www.unser-ferienprogramm.de/roethlein/veranstaltung.php?id=285941
SUMMARY:Nacht der Bücherei
DTSTART;TZID=Europe/Berlin:20250821T200000
END:VEVENT

END:VCALENDAR
