BEGIN:VCALENDAR
VERSION:2.0
PRODID:-//hacksw/handcal//NONSGML v1.0//EN
CALSCALE:GREGORIAN
BEGIN:VTIMEZONE
TZID:Europe/Berlin
X-LIC-LOCATION:Europe/Berlin
BEGIN:DAYLIGHT
TZOFFSETFROM:+0100
TZOFFSETTO:+0200
TZNAME:CEST
DTSTART:19700329T020000
RRULE:FREQ=YEARLY;BYDAY=-1SU;BYMONTH=3
END:DAYLIGHT
BEGIN:STANDARD
TZOFFSETFROM:+0200
TZOFFSETTO:+0100
TZNAME:CET
DTSTART:19701025T030000
RRULE:FREQ=YEARLY;BYDAY=-1SU;BYMONTH=10
END:STANDARD
END:VTIMEZONE
BEGIN:VEVENT
DTEND;TZID=Europe/Berlin:20250819T103000
UID:69e857203de79
DTSTAMP:20260422T070536
LOCATION:Kindergarten Röthlein
DESCRIPTION:„Prinz Zain el Asnam“ – Puppentheater\r\n\r\nAm Dienstag\, den 19. August 2025\, von 9:00 bis 10:30 Uhr gibt es ein spannendes Puppentheater für Kinder und Erwachsene.\r\n\r\nZain und Mobarek machen sich auf die Suche nach einem Schatz und treffen dabei den geheimnisvollen Geisterkönig.\r\n\r\nDas Theaterstück ist für Kinder ab 6 Jahren geeignet.\r\n\r\nDie Teilnahme kostet 4 Euro.
URL;VALUE=URI:https://www.unser-ferienprogramm.de/roethlein/veranstaltung.php?id=285940
SUMMARY:Puppentheater 
DTSTART;TZID=Europe/Berlin:20250819T090000
END:VEVENT

END:VCALENDAR
