BEGIN:VCALENDAR
VERSION:2.0
PRODID:-//hacksw/handcal//NONSGML v1.0//EN
CALSCALE:GREGORIAN
BEGIN:VTIMEZONE
TZID:Europe/Berlin
X-LIC-LOCATION:Europe/Berlin
BEGIN:DAYLIGHT
TZOFFSETFROM:+0100
TZOFFSETTO:+0200
TZNAME:CEST
DTSTART:19700329T020000
RRULE:FREQ=YEARLY;BYDAY=-1SU;BYMONTH=3
END:DAYLIGHT
BEGIN:STANDARD
TZOFFSETFROM:+0200
TZOFFSETTO:+0100
TZNAME:CET
DTSTART:19701025T030000
RRULE:FREQ=YEARLY;BYDAY=-1SU;BYMONTH=10
END:STANDARD
END:VTIMEZONE
BEGIN:VEVENT
DTEND;TZID=Europe/Berlin:20250818T120000
UID:69e85951591c8
DTSTAMP:20260422T071457
LOCATION:TSV-Halle Röthlein
DESCRIPTION:Komm und bau!\r\n\r\nAm Montag\, den 18. August 2025\, könnt ihr von 9:30 bis 12:00 Uhr in der TSV-Halle Röthlein zu echten Erfindern und Baumeistern werden!\r\n\r\nMit vielen großen Bausteinen und ganz viel Platz erschaffen wir gemeinsam neue Spiel-\, Lebens- und Erlebniswelten für unsere Gemeinde – ganz nach euren Ideen.\r\n\r\nOb Türme\, Häuser oder Fantasiewelten – alles ist möglich!\r\n\r\nEin Vormittag voller Kreativität\, Teamwork und Bauspaß wartet auf euch!
URL;VALUE=URI:https://www.unser-ferienprogramm.de/roethlein/veranstaltung.php?id=285937
SUMMARY:Komm und Bau
DTSTART;TZID=Europe/Berlin:20250818T093000
END:VEVENT

END:VCALENDAR
