BEGIN:VCALENDAR
VERSION:2.0
PRODID:-//hacksw/handcal//NONSGML v1.0//EN
CALSCALE:GREGORIAN
BEGIN:VTIMEZONE
TZID:Europe/Berlin
X-LIC-LOCATION:Europe/Berlin
BEGIN:DAYLIGHT
TZOFFSETFROM:+0100
TZOFFSETTO:+0200
TZNAME:CEST
DTSTART:19700329T020000
RRULE:FREQ=YEARLY;BYDAY=-1SU;BYMONTH=3
END:DAYLIGHT
BEGIN:STANDARD
TZOFFSETFROM:+0200
TZOFFSETTO:+0100
TZNAME:CET
DTSTART:19701025T030000
RRULE:FREQ=YEARLY;BYDAY=-1SU;BYMONTH=10
END:STANDARD
END:VTIMEZONE
BEGIN:VEVENT
DTEND;TZID=Europe/Berlin:20250814T180000
UID:69e85969063db
DTSTAMP:20260422T071521
LOCATION:Neuhof
DESCRIPTION:Abenteuer im Steigerwald \r\n\r\nAm Donnerstag\, den 14. August\, wartet ein echtes Abenteuer auf euch! Von 14:00 bis 18:00 Uhr geht es nach Neuhof in den Steigerwald.\r\n\r\nGemeinsam wandern wir mit Eseln zum See und probieren uns im Bogenschießen – ganz wie Robin Hood!\r\n\r\nTreffpunkt ist die Gemeindebibliothek Röthlein\, von dort aus fahren wir gemeinsam mit dem PKW los.\r\n\r\nEin spannender Nachmittag in der Natur mit Tieren\, Bewegung und jeder Menge Spaß – sei dabei!
URL;VALUE=URI:https://www.unser-ferienprogramm.de/roethlein/veranstaltung.php?id=285936
SUMMARY:Abenteuer Im Steigerwald
DTSTART;TZID=Europe/Berlin:20250814T140000
END:VEVENT

END:VCALENDAR
