BEGIN:VCALENDAR
VERSION:2.0
PRODID:-//hacksw/handcal//NONSGML v1.0//EN
CALSCALE:GREGORIAN
BEGIN:VTIMEZONE
TZID:Europe/Berlin
X-LIC-LOCATION:Europe/Berlin
BEGIN:DAYLIGHT
TZOFFSETFROM:+0100
TZOFFSETTO:+0200
TZNAME:CEST
DTSTART:19700329T020000
RRULE:FREQ=YEARLY;BYDAY=-1SU;BYMONTH=3
END:DAYLIGHT
BEGIN:STANDARD
TZOFFSETFROM:+0200
TZOFFSETTO:+0100
TZNAME:CET
DTSTART:19701025T030000
RRULE:FREQ=YEARLY;BYDAY=-1SU;BYMONTH=10
END:STANDARD
END:VTIMEZONE
BEGIN:VEVENT
DTEND;TZID=Europe/Berlin:20250813T190000
UID:69e8596a9f517
DTSTAMP:20260422T071522
LOCATION:Scherenburg Gemünden
DESCRIPTION:Kindertheater auf der Scherenburg – Mittwoch\, 13. August 2025\r\n\r\nAm Mittwoch\, den 13. August\, machen wir einen spannenden Ausflug zur Scherenburg in Gemünden! Von 12:00 bis ca. 19:00 Uhr fahren wir gemeinsam mit dem Bus von der Gemeindebibliothek Röthlein los und schauen uns dort das Theaterstück „Aladin und die Wunderlampe“ an.\r\n\r\nKinder und Eltern sind herzlich willkommen! Bitte separat anmelden.\r\n\r\nBitte denkt an Verpflegung\, wettergerechte Kleidung und Badesachen\, denn je nach Wetter können wir auch noch etwas planschen oder spielen.\r\n\r\nKosten:\r\n12 € für Kinder\r\n15 € für Erwachsene\r\n\r\nEin schöner Nachmittag voller Abenteuer\, Theaterzauber und vielleicht sogar ein bisschen Wasserspaß – seid dabei!
URL;VALUE=URI:https://www.unser-ferienprogramm.de/roethlein/veranstaltung.php?id=285934
SUMMARY:Theater auf der Scherenburg 
DTSTART;TZID=Europe/Berlin:20250813T120000
END:VEVENT

END:VCALENDAR
