BEGIN:VCALENDAR
VERSION:2.0
PRODID:-//hacksw/handcal//NONSGML v1.0//EN
CALSCALE:GREGORIAN
BEGIN:VTIMEZONE
TZID:Europe/Berlin
X-LIC-LOCATION:Europe/Berlin
BEGIN:DAYLIGHT
TZOFFSETFROM:+0100
TZOFFSETTO:+0200
TZNAME:CEST
DTSTART:19700329T020000
RRULE:FREQ=YEARLY;BYDAY=-1SU;BYMONTH=3
END:DAYLIGHT
BEGIN:STANDARD
TZOFFSETFROM:+0200
TZOFFSETTO:+0100
TZNAME:CET
DTSTART:19701025T030000
RRULE:FREQ=YEARLY;BYDAY=-1SU;BYMONTH=10
END:STANDARD
END:VTIMEZONE
BEGIN:VEVENT
DTEND;TZID=Europe/Berlin:20250812T120000
UID:69e8591c5c233
DTSTAMP:20260422T071404
LOCATION:Grundschule Röthlein
DESCRIPTION:Kräuterdetektive unterwegs – Dienstag\, 12. August 2025 in Röthlein\r\n\r\nAm Dienstag\, den 12. August\, gehen wir von 9:00 bis 12:00 Uhr an der Grundschule Röthlein auf Kräuter-Entdeckungstour! Gemeinsam machen wir uns auf die Suche nach seltenen Kräutern\, legen Wiesenpflaster an\, spielen spannende Spiele und machen kleine Experimente.\r\n\r\nAußerdem stellen wir unser eigenes Kräuterwasser und Kräutersalz her.\r\n\r\nBitte bringt ein Schraubglas und einen Trinkbecher mit Namen mit.\r\nDie Teilnahme kostet 5 Euro.\r\n\r\nWerde Kräuterdetektiv und entdecke\, was in Wiese und Garten steckt!
URL;VALUE=URI:https://www.unser-ferienprogramm.de/roethlein/veranstaltung.php?id=285889
SUMMARY:Kräuterdetektive
DTSTART;TZID=Europe/Berlin:20250812T090000
END:VEVENT

END:VCALENDAR
