BEGIN:VCALENDAR
VERSION:2.0
PRODID:-//hacksw/handcal//NONSGML v1.0//EN
CALSCALE:GREGORIAN
BEGIN:VTIMEZONE
TZID:Europe/Berlin
X-LIC-LOCATION:Europe/Berlin
BEGIN:DAYLIGHT
TZOFFSETFROM:+0100
TZOFFSETTO:+0200
TZNAME:CEST
DTSTART:19700329T020000
RRULE:FREQ=YEARLY;BYDAY=-1SU;BYMONTH=3
END:DAYLIGHT
BEGIN:STANDARD
TZOFFSETFROM:+0200
TZOFFSETTO:+0100
TZNAME:CET
DTSTART:19701025T030000
RRULE:FREQ=YEARLY;BYDAY=-1SU;BYMONTH=10
END:STANDARD
END:VTIMEZONE
BEGIN:VEVENT
DTEND;TZID=Europe/Berlin:20250811T120000
UID:69e859342f387
DTSTAMP:20260422T071428
LOCATION:Grundschule Röthlein
DESCRIPTION:Ein Tag im alten Rom – Montag\, 11. August 2025\r\n\r\nAm Montag\, den 11. August\, reisen wir von 09:30 bis 12:00 Uhr mit dem „Theater im Koffer“ ins antike Rom! Taucht ein in das Leben der Römer und erforscht gemeinsam Handwerk\, Handel\, Bankwesen\, Militär\, Ernährung und Körperpflege.\r\n\r\nWir probieren aus\, wie die alten Römer kochten\, arbeiteten\, sich kleideten und schminkten. Ein spannender Vormittag\, bei dem du viel erleben und ausprobieren kannst!\r\n\r\nDie Teilnahme kostet 9 Euro.
URL;VALUE=URI:https://www.unser-ferienprogramm.de/roethlein/veranstaltung.php?id=285886
SUMMARY:Ein Tag im alten Rom
DTSTART;TZID=Europe/Berlin:20250811T093000
END:VEVENT

END:VCALENDAR
