BEGIN:VCALENDAR
VERSION:2.0
PRODID:-//hacksw/handcal//NONSGML v1.0//EN
CALSCALE:GREGORIAN
BEGIN:VTIMEZONE
TZID:Europe/Berlin
X-LIC-LOCATION:Europe/Berlin
BEGIN:DAYLIGHT
TZOFFSETFROM:+0100
TZOFFSETTO:+0200
TZNAME:CEST
DTSTART:19700329T020000
RRULE:FREQ=YEARLY;BYDAY=-1SU;BYMONTH=3
END:DAYLIGHT
BEGIN:STANDARD
TZOFFSETFROM:+0200
TZOFFSETTO:+0100
TZNAME:CET
DTSTART:19701025T030000
RRULE:FREQ=YEARLY;BYDAY=-1SU;BYMONTH=10
END:STANDARD
END:VTIMEZONE
BEGIN:VEVENT
DTEND;TZID=Europe/Berlin:20250808T130000
UID:69e8729f8f80b
DTSTAMP:20260422T090255
LOCATION:Scharfes Eck Röthlein
DESCRIPTION:Kegeln beim Scharfen Eck\r\n\r\nVon 11:00 bis 13:00 Uhr geht’s auf die Kegelbahn in Röthlein!\r\n\r\nWir lernen den richtigen Umgang mit den großen Kugeln und probieren danach lustige Kegelspiele aus.\r\n\r\nEin sportlicher und fröhlicher Vormittag – mach mit und hol die meisten Kegel um!\r\n\r\nTreffpunkt ist direkt an der Kegelbahn beim Scharfen Eck.
URL;VALUE=URI:https://www.unser-ferienprogramm.de/roethlein/veranstaltung.php?id=285884
SUMMARY:Kegeln 
DTSTART;TZID=Europe/Berlin:20250808T110000
END:VEVENT

END:VCALENDAR
