BEGIN:VCALENDAR
VERSION:2.0
PRODID:-//hacksw/handcal//NONSGML v1.0//EN
CALSCALE:GREGORIAN
BEGIN:VTIMEZONE
TZID:Europe/Berlin
X-LIC-LOCATION:Europe/Berlin
BEGIN:DAYLIGHT
TZOFFSETFROM:+0100
TZOFFSETTO:+0200
TZNAME:CEST
DTSTART:19700329T020000
RRULE:FREQ=YEARLY;BYDAY=-1SU;BYMONTH=3
END:DAYLIGHT
BEGIN:STANDARD
TZOFFSETFROM:+0200
TZOFFSETTO:+0100
TZNAME:CET
DTSTART:19701025T030000
RRULE:FREQ=YEARLY;BYDAY=-1SU;BYMONTH=10
END:STANDARD
END:VTIMEZONE
BEGIN:VEVENT
DTEND;TZID=Europe/Berlin:20250806T143000
UID:69e86f1e9e204
DTSTAMP:20260422T084758
LOCATION:Gochsheim
DESCRIPTION:Kunst- und Kreativtag in Gochsheim\r\n\r\nAm Mittwoch\, den 06. August\, findet von 10:00 bis 14:30 Uhr in der Fritz-Zeilein-Halle in Gochsheim unser bunter Kunst- und Kreativtag statt. Hier wird gebastelt\, geklebt\, geschnitten\, gehämmert und gemalt – deiner Fantasie sind keine Grenzen gesetzt!\r\n\r\nBitte bringt eine leere PET-Flasche und eure eigene Verpflegung für die Mittagspause mit.\r\n\r\nDie Teilnahme kostet 8 Euro.\r\n\r\nEin toller Tag für alle\, die gerne kreativ sind und gerne mit den Händen arbeiten!
URL;VALUE=URI:https://www.unser-ferienprogramm.de/roethlein/veranstaltung.php?id=285879
SUMMARY:Kunst- und Kreativtag 
DTSTART;TZID=Europe/Berlin:20250806T100000
END:VEVENT

END:VCALENDAR
