BEGIN:VCALENDAR
VERSION:2.0
PRODID:-//hacksw/handcal//NONSGML v1.0//EN
CALSCALE:GREGORIAN
BEGIN:VTIMEZONE
TZID:Europe/Berlin
X-LIC-LOCATION:Europe/Berlin
BEGIN:DAYLIGHT
TZOFFSETFROM:+0100
TZOFFSETTO:+0200
TZNAME:CEST
DTSTART:19700329T020000
RRULE:FREQ=YEARLY;BYDAY=-1SU;BYMONTH=3
END:DAYLIGHT
BEGIN:STANDARD
TZOFFSETFROM:+0200
TZOFFSETTO:+0100
TZNAME:CET
DTSTART:19701025T030000
RRULE:FREQ=YEARLY;BYDAY=-1SU;BYMONTH=10
END:STANDARD
END:VTIMEZONE
BEGIN:VEVENT
DTEND;TZID=Europe/Berlin:20250805T130000
UID:69e8597c00102
DTSTAMP:20260422T071540
LOCATION:Gemeindebibliothek Röthlein
DESCRIPTION:Experimente: Was passiert\, wenn ich …? – Dienstag\, 06. August 2025 in Röthlein\r\n\r\nAm Dienstag\, den 06. August\, wird es spannend in der Gemeindebibliothek Röthlein! Von 10:00 bis 13:00 Uhr heißt es: ausprobieren\, staunen und forschen. Wir testen verschiedene Materialien und finden gemeinsam heraus\, was passiert\, wenn man Dinge mischt\, schüttelt oder erhitzt.\r\n\r\nDie Teilnahme kostet 3 Euro.\r\n\r\nLust auf spannende Experimente? Dann mach mit und werde zum kleinen Forscher!\r\n\r\n
URL;VALUE=URI:https://www.unser-ferienprogramm.de/roethlein/veranstaltung.php?id=285878
SUMMARY:Experimente
DTSTART;TZID=Europe/Berlin:20250805T100000
END:VEVENT

END:VCALENDAR
