BEGIN:VCALENDAR
VERSION:2.0
PRODID:-//hacksw/handcal//NONSGML v1.0//EN
CALSCALE:GREGORIAN
BEGIN:VTIMEZONE
TZID:Europe/Berlin
X-LIC-LOCATION:Europe/Berlin
BEGIN:DAYLIGHT
TZOFFSETFROM:+0100
TZOFFSETTO:+0200
TZNAME:CEST
DTSTART:19700329T020000
RRULE:FREQ=YEARLY;BYDAY=-1SU;BYMONTH=3
END:DAYLIGHT
BEGIN:STANDARD
TZOFFSETFROM:+0200
TZOFFSETTO:+0100
TZNAME:CET
DTSTART:19701025T030000
RRULE:FREQ=YEARLY;BYDAY=-1SU;BYMONTH=10
END:STANDARD
END:VTIMEZONE
BEGIN:VEVENT
DTEND;TZID=Europe/Berlin:20250801T160000
UID:69e855ce5e404
DTSTAMP:20260422T065958
LOCATION:Festplatz Hirschfeld
DESCRIPTION:School’s Out Party – Wir feiern den Start in die Ferien! \r\n\r\nAm Freitag\, den 01. August heißt es: Ranzen in die Ecke und ab zur Party!\r\nVon 11:00 bis 16:00 Uhr laden wir euch herzlich zur großen School’s Out Party auf dem Festplatz in Hirschfeld ein.\r\n\r\nFreut euch auf:\r\n\r\nEine riesige Hüpfburg\r\n\r\nSpiel & Spaß für Kinder aller Altersgruppen\r\n\r\nLeckere Verpflegung vor Ort\r\n\r\nEine entspannte Zeit für die ganze Familie\r\n\r\nEltern sind herzlich willkommen!\r\nBitte beachtet: Die Aufsichtspflicht liegt bei den Eltern.\r\n\r\nWichtig:\r\nBei schlechtem Wetter muss die Veranstaltung leider ausfallen.\r\n\r\nKommt vorbei und startet mit uns gemeinsam in die Sommerferien! ☀️
URL;VALUE=URI:https://www.unser-ferienprogramm.de/roethlein/veranstaltung.php?id=285872
SUMMARY:Schools Out Party
DTSTART;TZID=Europe/Berlin:20250801T110000
END:VEVENT

END:VCALENDAR
