BEGIN:VCALENDAR
VERSION:2.0
PRODID:-//hacksw/handcal//NONSGML v1.0//EN
CALSCALE:GREGORIAN
BEGIN:VTIMEZONE
TZID:Europe/Berlin
X-LIC-LOCATION:Europe/Berlin
BEGIN:DAYLIGHT
TZOFFSETFROM:+0100
TZOFFSETTO:+0200
TZNAME:CEST
DTSTART:19700329T020000
RRULE:FREQ=YEARLY;BYDAY=-1SU;BYMONTH=3
END:DAYLIGHT
BEGIN:STANDARD
TZOFFSETFROM:+0200
TZOFFSETTO:+0100
TZNAME:CET
DTSTART:19701025T030000
RRULE:FREQ=YEARLY;BYDAY=-1SU;BYMONTH=10
END:STANDARD
END:VTIMEZONE
BEGIN:VEVENT
DTEND;TZID=Europe/Berlin:20260723T173000
UID:69ed2bf937689
DTSTAMP:20260425T230249
LOCATION:FBZ Reiser - Naturkindergarten
DESCRIPTION:Plitsch\, Platsch\, Pritscheln erlaubt\, Aktivnachmittag für Kinder von 4 bis 6 Jahren. Bei hoffentlich schönem Sommerwetter werden wir in Badebekleidung und mit Kappe sowie gut eingecremt diesen Nachmittag mit lustigen Spielen rund um das Thema "WASSER" verbringen!\r\n\r\nDie Kinder verbringen die Zeit ohne Begleitung der Erziehungsberechtigten.
URL;VALUE=URI:https://www.unser-ferienprogramm.de/ried-riedmark/veranstaltung.php?id=318764
SUMMARY:Plitsch\, Platsch\, Pritscheln erlaubt - Spiel und Spaß  und Wasser marsch!
DTSTART;TZID=Europe/Berlin:20260723T150000
END:VEVENT

END:VCALENDAR
