BEGIN:VCALENDAR
VERSION:2.0
PRODID:-//hacksw/handcal//NONSGML v1.0//EN
CALSCALE:GREGORIAN
BEGIN:VTIMEZONE
TZID:Europe/Berlin
X-LIC-LOCATION:Europe/Berlin
BEGIN:DAYLIGHT
TZOFFSETFROM:+0100
TZOFFSETTO:+0200
TZNAME:CEST
DTSTART:19700329T020000
RRULE:FREQ=YEARLY;BYDAY=-1SU;BYMONTH=3
END:DAYLIGHT
BEGIN:STANDARD
TZOFFSETFROM:+0200
TZOFFSETTO:+0100
TZNAME:CET
DTSTART:19701025T030000
RRULE:FREQ=YEARLY;BYDAY=-1SU;BYMONTH=10
END:STANDARD
END:VTIMEZONE
BEGIN:VEVENT
DTEND;TZID=Europe/Berlin:20260713T110000
UID:69ed29ec4b426
DTSTAMP:20260425T225404
LOCATION:Tennisplatz Ried
DESCRIPTION:Sportlich die Ferien beginnen\, \r\nbei der Tenniswoche kannst du den Tennissport kennenlernen oder deine vorhandene Spieltechnik optimieren.\r\nKOSTEN FÜR DIE TENNISWOCHE  45\,-- EURO\r\nbitte den Betrag bei Kursbeginn in bar mitnehmen
URL;VALUE=URI:https://www.unser-ferienprogramm.de/ried-riedmark/veranstaltung.php?id=318689
SUMMARY:Union Tenniswoche                             Barzahlung 45\,-- bei Beginn
DTSTART;TZID=Europe/Berlin:20260713T090000
END:VEVENT


BEGIN:VEVENT
DTEND;TZID=Europe/Berlin:20260714T110000
UID:69ed29ec4b4621
DTSTAMP:20260425T225404
LOCATION:Tennisplatz Ried
DESCRIPTION:Sportlich die Ferien beginnen\, \r\nbei der Tenniswoche kannst du den Tennissport kennenlernen oder deine vorhandene Spieltechnik optimieren.\r\nKOSTEN FÜR DIE TENNISWOCHE  45\,-- EURO\r\nbitte den Betrag bei Kursbeginn in bar mitnehmen
URL;VALUE=URI:https://www.unser-ferienprogramm.de/ried-riedmark/veranstaltung.php?id=318689
SUMMARY:Union Tenniswoche                             Barzahlung 45\,-- bei Beginn
DTSTART;TZID=Europe/Berlin:20260714T090000
END:VEVENT


BEGIN:VEVENT
DTEND;TZID=Europe/Berlin:20260715T110000
UID:69ed29ec4b46f2
DTSTAMP:20260425T225404
LOCATION:Tennisplatz Ried
DESCRIPTION:Sportlich die Ferien beginnen\, \r\nbei der Tenniswoche kannst du den Tennissport kennenlernen oder deine vorhandene Spieltechnik optimieren.\r\nKOSTEN FÜR DIE TENNISWOCHE  45\,-- EURO\r\nbitte den Betrag bei Kursbeginn in bar mitnehmen
URL;VALUE=URI:https://www.unser-ferienprogramm.de/ried-riedmark/veranstaltung.php?id=318689
SUMMARY:Union Tenniswoche                             Barzahlung 45\,-- bei Beginn
DTSTART;TZID=Europe/Berlin:20260715T090000
END:VEVENT


BEGIN:VEVENT
DTEND;TZID=Europe/Berlin:20260716T110000
UID:69ed29ec4b47a3
DTSTAMP:20260425T225404
LOCATION:Tennisplatz Ried
DESCRIPTION:Sportlich die Ferien beginnen\, \r\nbei der Tenniswoche kannst du den Tennissport kennenlernen oder deine vorhandene Spieltechnik optimieren.\r\nKOSTEN FÜR DIE TENNISWOCHE  45\,-- EURO\r\nbitte den Betrag bei Kursbeginn in bar mitnehmen
URL;VALUE=URI:https://www.unser-ferienprogramm.de/ried-riedmark/veranstaltung.php?id=318689
SUMMARY:Union Tenniswoche                             Barzahlung 45\,-- bei Beginn
DTSTART;TZID=Europe/Berlin:20260716T090000
END:VEVENT


BEGIN:VEVENT
DTEND;TZID=Europe/Berlin:20260717T110000
UID:69ed29ec4b4864
DTSTAMP:20260425T225404
LOCATION:Tennisplatz Ried
DESCRIPTION:Sportlich die Ferien beginnen\, \r\nbei der Tenniswoche kannst du den Tennissport kennenlernen oder deine vorhandene Spieltechnik optimieren.\r\nKOSTEN FÜR DIE TENNISWOCHE  45\,-- EURO\r\nbitte den Betrag bei Kursbeginn in bar mitnehmen
URL;VALUE=URI:https://www.unser-ferienprogramm.de/ried-riedmark/veranstaltung.php?id=318689
SUMMARY:Union Tenniswoche                             Barzahlung 45\,-- bei Beginn
DTSTART;TZID=Europe/Berlin:20260717T090000
END:VEVENT

END:VCALENDAR
