BEGIN:VCALENDAR
VERSION:2.0
PRODID:-//hacksw/handcal//NONSGML v1.0//EN
CALSCALE:GREGORIAN
BEGIN:VTIMEZONE
TZID:Europe/Berlin
X-LIC-LOCATION:Europe/Berlin
BEGIN:DAYLIGHT
TZOFFSETFROM:+0100
TZOFFSETTO:+0200
TZNAME:CEST
DTSTART:19700329T020000
RRULE:FREQ=YEARLY;BYDAY=-1SU;BYMONTH=3
END:DAYLIGHT
BEGIN:STANDARD
TZOFFSETFROM:+0200
TZOFFSETTO:+0100
TZNAME:CET
DTSTART:19701025T030000
RRULE:FREQ=YEARLY;BYDAY=-1SU;BYMONTH=10
END:STANDARD
END:VTIMEZONE
BEGIN:VEVENT
DTEND;TZID=Europe/Berlin:20260717T113000
UID:69ed2bf9b1352
DTSTAMP:20260425T230249
LOCATION:Blindendorf 35\, 4312 Ried in der Riedmark
DESCRIPTION:In einem bunten und lustigen Vormittag entdecken wir gemeinsam die Welt der Hühner\, erforschen den Wald und fördern unsere Motorik im hauseigenen Obstgarten. Ob beim Basteln\, Rätseln oder Beobachten - hier wird mit allen Sinnen geforscht\, gelacht und gestaunt. Mit einer gemeinsamen Jause lassen wir den Vormittag ausklingen.
URL;VALUE=URI:https://www.unser-ferienprogramm.de/ried-riedmark/veranstaltung.php?id=315915
SUMMARY: Abenteuer Bauernhof - erleben\, bewegen erforschen
DTSTART;TZID=Europe/Berlin:20260717T083000
END:VEVENT

END:VCALENDAR
