BEGIN:VCALENDAR
VERSION:2.0
PRODID:-//hacksw/handcal//NONSGML v1.0//EN
CALSCALE:GREGORIAN
BEGIN:VTIMEZONE
TZID:Europe/Berlin
X-LIC-LOCATION:Europe/Berlin
BEGIN:DAYLIGHT
TZOFFSETFROM:+0100
TZOFFSETTO:+0200
TZNAME:CEST
DTSTART:19700329T020000
RRULE:FREQ=YEARLY;BYDAY=-1SU;BYMONTH=3
END:DAYLIGHT
BEGIN:STANDARD
TZOFFSETFROM:+0200
TZOFFSETTO:+0100
TZNAME:CET
DTSTART:19701025T030000
RRULE:FREQ=YEARLY;BYDAY=-1SU;BYMONTH=10
END:STANDARD
END:VTIMEZONE
BEGIN:VEVENT
DTEND;TZID=Europe/Berlin:20260805T120000
UID:69ed2bf88852b
DTSTAMP:20260425T230248
LOCATION:Ried in der Riedmark
DESCRIPTION:Unsere bunte Sommerstraße\r\n\r\nMach mit bei unserem kreativen Sommerprogramm und verwandle gemeinsam mit anderen Kindern eine ganze Fläche in eine riesige Kunstgalerie!\r\nMit bunten Kreiden entstehen fantasievolle Welten: von Unterwasserlandschaften über Traumstädte bis hin zu lustigen Bildern. Deiner Kreativität sind keine Grenzen gesetzt!\r\n\r\nDich erwartet:\r\n• gemeinsames Malen auf großer Fläche\r\n• spannende Kreativ- und Bewegungsspiele\r\n• lustige Fotoaktionen\r\n• ganz viel Farbe\, Spaß und Teamgeist\r\n\r\nZum Abschluss gibt es für alle ein Eis!\r\n\r\nAm Ende bestaunen wir gemeinsam unsere Kunstwerke – unsere eigene bunte Sommerstraße!\r\n\r\nFür Kinder\, die gerne malen\, gestalten und draußen kreativ sind\r\nMaterial wird bereitgestellt\r\n\r\nKomm vorbei und werde Teil unseres farbenfrohen Sommerabenteuers!\r\n\r\nPreis: 12 Euro Materialkosten und Betreuungskosten inkl. Getränke und ein Eis\r\n(Kreiden können am Ende mitgenommen werden)
URL;VALUE=URI:https://www.unser-ferienprogramm.de/ried-riedmark/veranstaltung.php?id=312176
SUMMARY:Unsere bunte Sommerstraße! Mach mit bei unserem kreativen Sommerprogramm und verwandle gemeinsam mit anderen Kindern eine ganze Fläche in eine riesige Kunstgalerie! Mit bunten Kreiden entstehen fantasievolle Welten.
DTSTART;TZID=Europe/Berlin:20260805T090000
END:VEVENT

END:VCALENDAR
