BEGIN:VCALENDAR
VERSION:2.0
PRODID:-//hacksw/handcal//NONSGML v1.0//EN
CALSCALE:GREGORIAN
BEGIN:VTIMEZONE
TZID:Europe/Berlin
X-LIC-LOCATION:Europe/Berlin
BEGIN:DAYLIGHT
TZOFFSETFROM:+0100
TZOFFSETTO:+0200
TZNAME:CEST
DTSTART:19700329T020000
RRULE:FREQ=YEARLY;BYDAY=-1SU;BYMONTH=3
END:DAYLIGHT
BEGIN:STANDARD
TZOFFSETFROM:+0200
TZOFFSETTO:+0100
TZNAME:CET
DTSTART:19701025T030000
RRULE:FREQ=YEARLY;BYDAY=-1SU;BYMONTH=10
END:STANDARD
END:VTIMEZONE
BEGIN:VEVENT
DTEND;TZID=Europe/Berlin:20260815T160000
UID:69ed3fa76f430
DTSTAMP:20260426T002647
LOCATION:Aigen-Schlägl
DESCRIPTION:Kleine Flitzer ganz groß – wir sind dabei! ????️✨\r\n\r\nMotoren brummen\, Reifen surren und die Spannung liegt in der Luft – in Aigen-Schlägl wird es richtig aufregend! Gemeinsam besuchen wir die Europameisterschaft und tauchen ein in die faszinierende Welt der kleinen Flitzer.\r\n\r\nVor Ort erleben wir hautnah\, wie die Fahrzeuge über die Strecke sausen und feuern die Fahrer begeistert an. Die besondere Atmosphäre\, das gemeinsame Mitfiebern und die vielen Eindrücke machen diesen Tag zu einem echten Highlight.\r\n\r\nNatürlich bleibt auch genug Zeit für Bewegung\, Spaß und gemeinsames Entdecken. Wir genießen den Tag in der Gruppe\, tauschen uns aus und erleben ein kleines Abenteuer abseits des Alltags.\r\n\r\nDas erwartet dich:\r\n\r\nBesuch der Europameisterschaft in Aigen-Schlägl\r\nSpannende Rennen & echte Rennatmosphäre\r\nStaunen\, Mitfiebern und Anfeuern\r\nSpiel\, Spaß und gemeinsame Zeit\r\nEin unvergesslicher Sommertag\r\nMittagessen/Getränke\r\n
URL;VALUE=URI:https://www.unser-ferienprogramm.de/ried-riedmark/veranstaltung.php?id=312173
SUMMARY:Kleine Flitzer geben in Aigen-Schläg ordentlich Gas! Wir sind dabei bei der Europameisterschaft 2026
DTSTART;TZID=Europe/Berlin:20260815T090000
END:VEVENT

END:VCALENDAR
