BEGIN:VCALENDAR
VERSION:2.0
PRODID:-//hacksw/handcal//NONSGML v1.0//EN
CALSCALE:GREGORIAN
BEGIN:VTIMEZONE
TZID:Europe/Berlin
X-LIC-LOCATION:Europe/Berlin
BEGIN:DAYLIGHT
TZOFFSETFROM:+0100
TZOFFSETTO:+0200
TZNAME:CEST
DTSTART:19700329T020000
RRULE:FREQ=YEARLY;BYDAY=-1SU;BYMONTH=3
END:DAYLIGHT
BEGIN:STANDARD
TZOFFSETFROM:+0200
TZOFFSETTO:+0100
TZNAME:CET
DTSTART:19701025T030000
RRULE:FREQ=YEARLY;BYDAY=-1SU;BYMONTH=10
END:STANDARD
END:VTIMEZONE
BEGIN:VEVENT
DTEND;TZID=Europe/Berlin:20260811T170000
UID:69ed3fa7d5b3a
DTSTAMP:20260426T002647
LOCATION:Ikuna Naturresort
DESCRIPTION:Ikuna – Eine Nacht im Abenteuerreich\r\n\r\nErlebe mit uns eine besondere Sommernacht im Ikuna Naturresort! Gemeinsam verbringen wir Zeit in der Natur\, lassen den Alltag hinter uns und genießen ein kleines Abenteuer unter freiem Himmel.\r\n\r\nNach unserer Ankunft heißt es: Wir toben uns im Naturpark aus! Ob klettern\, entdecken oder einfach die Freiheit genießen – hier ist Platz für Bewegung\, Spaß und echtes Naturerleben.\r\n\r\nAm Abend wird es gemütlich: Wir sitzen gemeinsam am Lagerfeuer\, genießen Stockbrot und lassen den Tag in entspannter Atmosphäre ausklingen.\r\n\r\nNach einer Nacht im Zelt starten wir ruhig in den nächsten Morgen – mit Frühstück in der Natur und Zeit zum Ankommen.\r\n\r\nDas erwartet dich:\r\n\r\nÜbernachtung im Zelt\r\nAustoben und Entdecken im Naturpark\r\nLagerfeuer mit Stockbrot \r\nGemeinschaft & Naturerlebnis\r\nEntspannung und kleine Abenteuer\r\n\r\nPreis ist inkl. Eintritt und Übernachtung und Mittagessen/Abendessen und Getränke
URL;VALUE=URI:https://www.unser-ferienprogramm.de/ried-riedmark/veranstaltung.php?id=312167
SUMMARY:Zeltlager-Erlebnis im IKUNA Naturresort - ANMELDUNG DIREKT ÜBER VERANSTALTER
DTSTART;TZID=Europe/Berlin:20260810T090000
END:VEVENT

END:VCALENDAR
