BEGIN:VCALENDAR
VERSION:2.0
PRODID:-//hacksw/handcal//NONSGML v1.0//EN
CALSCALE:GREGORIAN
BEGIN:VTIMEZONE
TZID:Europe/Berlin
X-LIC-LOCATION:Europe/Berlin
BEGIN:DAYLIGHT
TZOFFSETFROM:+0100
TZOFFSETTO:+0200
TZNAME:CEST
DTSTART:19700329T020000
RRULE:FREQ=YEARLY;BYDAY=-1SU;BYMONTH=3
END:DAYLIGHT
BEGIN:STANDARD
TZOFFSETFROM:+0200
TZOFFSETTO:+0100
TZNAME:CET
DTSTART:19701025T030000
RRULE:FREQ=YEARLY;BYDAY=-1SU;BYMONTH=10
END:STANDARD
END:VTIMEZONE
BEGIN:VEVENT
DTEND;TZID=Europe/Berlin:20260831T130000
UID:69ed3fa0e1971
DTSTAMP:20260426T002640
LOCATION:Regionsbüro\, Gewerbestraße 7\, 4222 St. Georgen
DESCRIPTION:Was erwartet euch bei der Lern- und Spaßwoche? Unsere geschulte Pädagogin Emilia gestaltet mit euch einen spielerischen Einstieg in den Schulalltag\, mit einem abwechslungsreichen Programm am Vormittag. Lerneinheiten werden dabei ebenso eingebaut wie Spiel- und Kreativideen. Dabei achten wir in altersdurchmischten Gruppen (Zielgruppe: Kinder von 6 bis 11 Jahren) auf eine Gruppengröße von maximal 8 Kinder pro Betreuungsperson. Perfekt\, um nach den Ferien wieder gut in die Schule zu starten. 
URL;VALUE=URI:https://www.unser-ferienprogramm.de/ried-riedmark/veranstaltung.php?id=311464
SUMMARY:Lern- und Spaßwoche 2026
DTSTART;TZID=Europe/Berlin:20260831T073000
END:VEVENT


BEGIN:VEVENT
DTEND;TZID=Europe/Berlin:20260901T130000
UID:69ed3fa0e19ac1
DTSTAMP:20260426T002640
LOCATION:Regionsbüro\, Gewerbestraße 7\, 4222 St. Georgen
DESCRIPTION:Was erwartet euch bei der Lern- und Spaßwoche? Unsere geschulte Pädagogin Emilia gestaltet mit euch einen spielerischen Einstieg in den Schulalltag\, mit einem abwechslungsreichen Programm am Vormittag. Lerneinheiten werden dabei ebenso eingebaut wie Spiel- und Kreativideen. Dabei achten wir in altersdurchmischten Gruppen (Zielgruppe: Kinder von 6 bis 11 Jahren) auf eine Gruppengröße von maximal 8 Kinder pro Betreuungsperson. Perfekt\, um nach den Ferien wieder gut in die Schule zu starten. 
URL;VALUE=URI:https://www.unser-ferienprogramm.de/ried-riedmark/veranstaltung.php?id=311464
SUMMARY:Lern- und Spaßwoche 2026
DTSTART;TZID=Europe/Berlin:20260901T073000
END:VEVENT


BEGIN:VEVENT
DTEND;TZID=Europe/Berlin:20260902T130000
UID:69ed3fa0e19cd2
DTSTAMP:20260426T002640
LOCATION:Regionsbüro\, Gewerbestraße 7\, 4222 St. Georgen
DESCRIPTION:Was erwartet euch bei der Lern- und Spaßwoche? Unsere geschulte Pädagogin Emilia gestaltet mit euch einen spielerischen Einstieg in den Schulalltag\, mit einem abwechslungsreichen Programm am Vormittag. Lerneinheiten werden dabei ebenso eingebaut wie Spiel- und Kreativideen. Dabei achten wir in altersdurchmischten Gruppen (Zielgruppe: Kinder von 6 bis 11 Jahren) auf eine Gruppengröße von maximal 8 Kinder pro Betreuungsperson. Perfekt\, um nach den Ferien wieder gut in die Schule zu starten. 
URL;VALUE=URI:https://www.unser-ferienprogramm.de/ried-riedmark/veranstaltung.php?id=311464
SUMMARY:Lern- und Spaßwoche 2026
DTSTART;TZID=Europe/Berlin:20260902T073000
END:VEVENT


BEGIN:VEVENT
DTEND;TZID=Europe/Berlin:20260903T130000
UID:69ed3fa0e19d73
DTSTAMP:20260426T002640
LOCATION:Regionsbüro\, Gewerbestraße 7\, 4222 St. Georgen
DESCRIPTION:Was erwartet euch bei der Lern- und Spaßwoche? Unsere geschulte Pädagogin Emilia gestaltet mit euch einen spielerischen Einstieg in den Schulalltag\, mit einem abwechslungsreichen Programm am Vormittag. Lerneinheiten werden dabei ebenso eingebaut wie Spiel- und Kreativideen. Dabei achten wir in altersdurchmischten Gruppen (Zielgruppe: Kinder von 6 bis 11 Jahren) auf eine Gruppengröße von maximal 8 Kinder pro Betreuungsperson. Perfekt\, um nach den Ferien wieder gut in die Schule zu starten. 
URL;VALUE=URI:https://www.unser-ferienprogramm.de/ried-riedmark/veranstaltung.php?id=311464
SUMMARY:Lern- und Spaßwoche 2026
DTSTART;TZID=Europe/Berlin:20260903T073000
END:VEVENT


BEGIN:VEVENT
DTEND;TZID=Europe/Berlin:20260904T130000
UID:69ed3fa0e19e04
DTSTAMP:20260426T002640
LOCATION:Regionsbüro\, Gewerbestraße 7\, 4222 St. Georgen
DESCRIPTION:Was erwartet euch bei der Lern- und Spaßwoche? Unsere geschulte Pädagogin Emilia gestaltet mit euch einen spielerischen Einstieg in den Schulalltag\, mit einem abwechslungsreichen Programm am Vormittag. Lerneinheiten werden dabei ebenso eingebaut wie Spiel- und Kreativideen. Dabei achten wir in altersdurchmischten Gruppen (Zielgruppe: Kinder von 6 bis 11 Jahren) auf eine Gruppengröße von maximal 8 Kinder pro Betreuungsperson. Perfekt\, um nach den Ferien wieder gut in die Schule zu starten. 
URL;VALUE=URI:https://www.unser-ferienprogramm.de/ried-riedmark/veranstaltung.php?id=311464
SUMMARY:Lern- und Spaßwoche 2026
DTSTART;TZID=Europe/Berlin:20260904T073000
END:VEVENT

END:VCALENDAR
