BEGIN:VCALENDAR
VERSION:2.0
PRODID:-//hacksw/handcal//NONSGML v1.0//EN
CALSCALE:GREGORIAN
BEGIN:VTIMEZONE
TZID:Europe/Berlin
X-LIC-LOCATION:Europe/Berlin
BEGIN:DAYLIGHT
TZOFFSETFROM:+0100
TZOFFSETTO:+0200
TZNAME:CEST
DTSTART:19700329T020000
RRULE:FREQ=YEARLY;BYDAY=-1SU;BYMONTH=3
END:DAYLIGHT
BEGIN:STANDARD
TZOFFSETFROM:+0200
TZOFFSETTO:+0100
TZNAME:CET
DTSTART:19701025T030000
RRULE:FREQ=YEARLY;BYDAY=-1SU;BYMONTH=10
END:STANDARD
END:VTIMEZONE
BEGIN:VEVENT
DTEND;TZID=Europe/Berlin:20260724T170000
UID:69ed2ab6d5715
DTSTAMP:20260425T225726
LOCATION:Gusentalstraße 21 4222 Sankt Georgen an der Gusen Österreich
DESCRIPTION:Werde zum echten Nachwuchs-Retter! Gemeinsam mit dem JRK-Maskottchen Helfi begibst du dich auf eine spannende Schnitzeljagd durch die Rotkreuz-Dienststelle. \r\nKomm vorbei und erlebe einen spannenden Tag voller Spaß\, Teamarbeit und Erste Hilfe!
URL;VALUE=URI:https://www.unser-ferienprogramm.de/ried-riedmark/veranstaltung.php?id=311452
SUMMARY:„Helfi und die Rettungsmission“  Ferienpassaktion Rotes Kreuz St. Georgen an der Gusen 
DTSTART;TZID=Europe/Berlin:20260724T143000
END:VEVENT

END:VCALENDAR
