BEGIN:VCALENDAR
VERSION:2.0
PRODID:-//hacksw/handcal//NONSGML v1.0//EN
CALSCALE:GREGORIAN
BEGIN:VTIMEZONE
TZID:Europe/Berlin
X-LIC-LOCATION:Europe/Berlin
BEGIN:DAYLIGHT
TZOFFSETFROM:+0100
TZOFFSETTO:+0200
TZNAME:CEST
DTSTART:19700329T020000
RRULE:FREQ=YEARLY;BYDAY=-1SU;BYMONTH=3
END:DAYLIGHT
BEGIN:STANDARD
TZOFFSETFROM:+0200
TZOFFSETTO:+0100
TZNAME:CET
DTSTART:19701025T030000
RRULE:FREQ=YEARLY;BYDAY=-1SU;BYMONTH=10
END:STANDARD
END:VTIMEZONE
BEGIN:VEVENT
DTEND;TZID=Europe/Berlin:20260808T193000
UID:69ed3fa1b0463
DTSTAMP:20260426T002641
LOCATION:Ried in der Riedmark
DESCRIPTION:Am 08. August 2026 machen wir gemeinsam einen besonderen Ausflug in den Bayern-Park.\r\nDort erwartet uns nicht nur ein erlebnisreicher Tag mit Fahrgeschäften und Spaß\, sondern auch ein ganz besonderes Event rund um Film- und Fantasyfiguren. Kinder und Erwachsene können beeindruckende Kostüme bestaunen\, Shows erleben und unvergessliche Erinnerungsfotos machen.\r\n\r\nDas Besondere daran:\r\nDer Besuch steht im Zeichen einer guten Sache – die Eintrittskosten werden durch den Bayernpark für wohltätige Zwecke gespendet. Damit verbinden wir unseren Ausflug mit einem wertvollen Beitrag für andere.\r\n\r\nWas euch erwartet:\r\n• gemeinsamer Tagesausflug als Verein\r\n• Spaß\, Action und Gemeinschaft\r\n• besondere Erlebnisse für Groß und Klein\r\n• Eindrücke aus der Welt von Film & Fantasy\r\n\r\nDatum: 08. August 2026\r\n\r\nWir freuen uns auf einen abwechslungsreichen Tag voller Freude\, Gemeinschaft und besonderer Momente!\r\n\r\nAnmeldung jederzeit möglich - Sichere dir rechtzeitig deinen Platz! ANMELDUNG NUR ÜBER DEN VEREIN MÖGLICH
URL;VALUE=URI:https://www.unser-ferienprogramm.de/ried-riedmark/veranstaltung.php?id=311404
SUMMARY:Vereinsausflug in den Bayern-Park - ANMELDUNG ÜBER VERANSTALTER
DTSTART;TZID=Europe/Berlin:20260808T073000
END:VEVENT

END:VCALENDAR
