BEGIN:VCALENDAR
VERSION:2.0
PRODID:-//hacksw/handcal//NONSGML v1.0//EN
CALSCALE:GREGORIAN
BEGIN:VTIMEZONE
TZID:Europe/Berlin
X-LIC-LOCATION:Europe/Berlin
BEGIN:DAYLIGHT
TZOFFSETFROM:+0100
TZOFFSETTO:+0200
TZNAME:CEST
DTSTART:19700329T020000
RRULE:FREQ=YEARLY;BYDAY=-1SU;BYMONTH=3
END:DAYLIGHT
BEGIN:STANDARD
TZOFFSETFROM:+0200
TZOFFSETTO:+0100
TZNAME:CET
DTSTART:19701025T030000
RRULE:FREQ=YEARLY;BYDAY=-1SU;BYMONTH=10
END:STANDARD
END:VTIMEZONE
BEGIN:VEVENT
DTEND;TZID=Europe/Berlin:20260803T170000
UID:69ed2be033bee
DTSTAMP:20260425T230224
LOCATION:Freistadt
DESCRIPTION:Erlebnisreicher Sommertag im Mühlviertel\r\n\r\nVerbring einen unvergesslichen Sommertag in der Natur des Mühlviertels. Dich erwartet ein abwechslungsreiches Programm voller Bewegung\, Spaß und entspannter Momente.\r\n\r\nNach der Ankunft starten wir mit einer lustigen Natur-Schatzsuche. Dabei kannst du die Umgebung spielerisch entdecken\, Hinweise finden und gemeinsam mit den anderen kleine Abenteuer erleben.\r\nAnschließend geht es gemütlich weiter mit einer Kutschenfahrt durch die idyllische Landschaft rund um Freistadt. Genieße die Ruhe\, die frische Luft und die schöne Natur.\r\n\r\nBei einem gemeinsamen Landschaftspicknick stärken wir uns mit regionalen Köstlichkeiten und genießen die Zeit im Grünen. Ein unterhaltsames Picknick-Quiz sorgt dabei für zusätzliche Spannung und gute Laune.\r\n\r\nDanach wird es wieder aktiv. Bei der Pferde-Olympiade kannst du dich bewegen\, ausprobieren und gemeinsam mit den anderen viel Spaß erleben.\r\n\r\nAm Nachmittag wartet der Badeteich direkt beim Hof auf dich. Hier kannst du schwimmen\, entspannen oder einfach die Natur genießen und den Tag gemütlich ausklingen lassen.\r\nFreu dich auf einen Tag voller Natur\, Gemeinschaft und sommerlicher Erlebnisse.
URL;VALUE=URI:https://www.unser-ferienprogramm.de/ried-riedmark/veranstaltung.php?id=311403
SUMMARY:Kutschenfahrt mit Landschaftspicknick und Badespaß – Tagesprogramm in Freistadt
DTSTART;TZID=Europe/Berlin:20260803T090000
END:VEVENT

END:VCALENDAR
