BEGIN:VCALENDAR
VERSION:2.0
PRODID:-//hacksw/handcal//NONSGML v1.0//EN
CALSCALE:GREGORIAN
BEGIN:VTIMEZONE
TZID:Europe/Berlin
X-LIC-LOCATION:Europe/Berlin
BEGIN:DAYLIGHT
TZOFFSETFROM:+0100
TZOFFSETTO:+0200
TZNAME:CEST
DTSTART:19700329T020000
RRULE:FREQ=YEARLY;BYDAY=-1SU;BYMONTH=3
END:DAYLIGHT
BEGIN:STANDARD
TZOFFSETFROM:+0200
TZOFFSETTO:+0100
TZNAME:CET
DTSTART:19701025T030000
RRULE:FREQ=YEARLY;BYDAY=-1SU;BYMONTH=10
END:STANDARD
END:VTIMEZONE
BEGIN:VEVENT
DTEND;TZID=Europe/Berlin:20260806T170000
UID:69ed2bf8d8358
DTSTAMP:20260425T230248
LOCATION:
DESCRIPTION:Abenteuer-Tag mit Rodelspaß und Badeaction mit dem Grünberg Flitzer\r\n\r\nStell dir vor: Ein ganzer Tag voller Spaß\, Action und Sommerfeeling wartet auf dich.\r\n\r\nAm 6. August 2026 geht es früh am Morgen los. Wir fahren gemeinsam mit dem Zug nach Gmunden. Schon die Fahrt wird lustig\, denn gemeinsam unterwegs sein bedeutet lachen\, plaudern und sich auf das Abenteuer freuen.\r\n\r\nDort angekommen wartet gleich das erste Highlight auf dich: die Sommerrodelbahn - Grünberg Flitzer. Hier saust du den Berg hinunter\, schnell\, kurvig und mit richtig viel Spaß. Spüre den Wind\, genieße die Geschwindigkeit und erlebe ein echtes Abenteuer.\r\n\r\nDanach geht es gemeinsam weiter durch die Natur. Auf dem Weg gibt es viel zu entdecken\, kleine Pausen\, lustige Gespräche und ganz viel gemeinsame Zeit.\r\nUnd dann wartet schon das nächste Highlight: der Traunsee. Ein wunderschöner Ort zum Baden\, Spielen und Entspannen. Hier kannst du ins Wasser springen\, mit Freunden lachen oder einfach die Sonne genießen.\r\n\r\nVergiss nicht\, deine Jause\, ausreichend Getränke\, Badekleidung\, feste Schuhe und Sonnenschutz mitzunehmen. Wenn du möchtest\, kannst du auch etwas Taschengeld einpacken.\r\nFreu dich auf einen unvergesslichen Tag voller Spaß\, Bewegung und gemeinsamer Erlebnisse. Dieser Tag wird garantiert ein echtes Sommerabenteuer.
URL;VALUE=URI:https://www.unser-ferienprogramm.de/ried-riedmark/veranstaltung.php?id=311402
SUMMARY:Abenteuer-Tag mit Rodelspaß & Badeaction mit dem Grünberg Flitzer
DTSTART;TZID=Europe/Berlin:20260806T080000
END:VEVENT

END:VCALENDAR
