BEGIN:VCALENDAR
VERSION:2.0
PRODID:-//hacksw/handcal//NONSGML v1.0//EN
CALSCALE:GREGORIAN
BEGIN:VTIMEZONE
TZID:Europe/Berlin
X-LIC-LOCATION:Europe/Berlin
BEGIN:DAYLIGHT
TZOFFSETFROM:+0100
TZOFFSETTO:+0200
TZNAME:CEST
DTSTART:19700329T020000
RRULE:FREQ=YEARLY;BYDAY=-1SU;BYMONTH=3
END:DAYLIGHT
BEGIN:STANDARD
TZOFFSETFROM:+0200
TZOFFSETTO:+0100
TZNAME:CET
DTSTART:19701025T030000
RRULE:FREQ=YEARLY;BYDAY=-1SU;BYMONTH=10
END:STANDARD
END:VTIMEZONE
BEGIN:VEVENT
DTEND;TZID=Europe/Berlin:20260804T120000
UID:69ed2994e3dcd
DTSTAMP:20260425T225236
LOCATION:Ried in der Riedmark
DESCRIPTION:Meine Tasche – mein Stil\r\nKreativ\, bunt und ganz individuell – bei diesem Workshop gestaltest du deine eigenen Accessoires!\r\n\r\nGemeinsam basteln wir:\r\n• ein persönliches Armband mit passendem Anhänger aus Perlen\r\n• einen Duftanhänger\, der deine Tasche oder dein Zimmer verschönert\r\n\r\nWähle deine Lieblingsfarben\, kombiniere Perlen und gestalte deinen ganz eigenen Stil.\r\n\r\nDich erwartet:\r\n• kreatives Arbeiten mit verschiedenen Materialien\r\n• viele Gestaltungsmöglichkeiten\r\n• Spaß in der Gruppe\r\n• dein ganz persönliches Ergebnis zum Mitnehmen\r\nFür Kinder und Jugendliche\, die gerne kreativ sind\r\n\r\nMaterial wird bereitgestellt und natürlich ein leckeres Eis\r\n\r\nMach deine Tasche zu etwas ganz Besonderem – dein Stil\, dein Design!
URL;VALUE=URI:https://www.unser-ferienprogramm.de/ried-riedmark/veranstaltung.php?id=311391
SUMMARY:Meine Tasche – mein Stil
DTSTART;TZID=Europe/Berlin:20260804T090000
END:VEVENT

END:VCALENDAR
