BEGIN:VCALENDAR
VERSION:2.0
PRODID:-//hacksw/handcal//NONSGML v1.0//EN
CALSCALE:GREGORIAN
BEGIN:VTIMEZONE
TZID:Europe/Berlin
X-LIC-LOCATION:Europe/Berlin
BEGIN:DAYLIGHT
TZOFFSETFROM:+0100
TZOFFSETTO:+0200
TZNAME:CEST
DTSTART:19700329T020000
RRULE:FREQ=YEARLY;BYDAY=-1SU;BYMONTH=3
END:DAYLIGHT
BEGIN:STANDARD
TZOFFSETFROM:+0200
TZOFFSETTO:+0100
TZNAME:CET
DTSTART:19701025T030000
RRULE:FREQ=YEARLY;BYDAY=-1SU;BYMONTH=10
END:STANDARD
END:VTIMEZONE
BEGIN:VEVENT
DTEND;TZID=Europe/Berlin:20260801T121500
UID:69ed2a4979dba
DTSTAMP:20260425T225537
LOCATION:Lungitz - Linz - Lungitz
DESCRIPTION:Ich als Lokführer – Mitfahren\, mitdenken\, mitstaunen!\r\nEin Abenteuer auf Schienen: Von Lungitz nach Linz – mit exklusiver Produktionsführung\r\n\r\nEin echtes Highlight für kleine und große Bahn-Fans!\r\n\r\nStart: Bahnhof Lungitz\r\nZuerst bekommst du eine kindgerechte Einschulung:\r\nSicherheitsinfos\, spannende Fakten über den Beruf Lokführer und was es bedeutet\, einen Zug zu lenken.\r\n\r\nDann geht’s los: Du fährst im Führerstand mit – ganz vorne beim Lokführer\, von Lungitz nach Linz. Hier erlebst du hautnah\, wie Funk\, Signale und Technik im Führerstand funktionieren.\r\n\r\nIn Linz erwartet dich ein echter Blick hinter die Kulissen der Bahnproduktion:\r\nWo parken eigentlich Lokomotiven\, wenn sie Pause haben?\r\nWie wird der Dienst der Lokführer organisiert?\r\nUnd wo bereiten sie sich auf ihre Schicht vor?\r\nBei der kleinen Produktionsführung bekommst du Antworten auf all diese Fragen – direkt von den Profis vor Ort.\r\n\r\nAuf der Rückfahrt nach Lungitz bist du wieder Teil der Zug-Crew und übernimmst Aufgaben wie:\r\nHaltestellen zählen\r\nDistanzen schätzen\r\nSignale beobachten\r\nZeiten notieren\r\n\r\nAus euren Beobachtungen entsteht ein eigenes kleines Mitmach-Protokoll – wie bei einem echten Bahnbetrieb!\r\n
URL;VALUE=URI:https://www.unser-ferienprogramm.de/ried-riedmark/veranstaltung.php?id=311331
SUMMARY:Ich als Lokführer – Mitfahren\, mitdenken\, mitstaunen! Dein Abenteuer auf Schienen: Von Lungitz nach Linz und zurück mit PRODUKTIONSFÜHRUNG
DTSTART;TZID=Europe/Berlin:20260801T094500
END:VEVENT

END:VCALENDAR
