BEGIN:VCALENDAR
VERSION:2.0
PRODID:-//hacksw/handcal//NONSGML v1.0//EN
CALSCALE:GREGORIAN
BEGIN:VTIMEZONE
TZID:Europe/Berlin
X-LIC-LOCATION:Europe/Berlin
BEGIN:DAYLIGHT
TZOFFSETFROM:+0100
TZOFFSETTO:+0200
TZNAME:CEST
DTSTART:19700329T020000
RRULE:FREQ=YEARLY;BYDAY=-1SU;BYMONTH=3
END:DAYLIGHT
BEGIN:STANDARD
TZOFFSETFROM:+0200
TZOFFSETTO:+0100
TZNAME:CET
DTSTART:19701025T030000
RRULE:FREQ=YEARLY;BYDAY=-1SU;BYMONTH=10
END:STANDARD
END:VTIMEZONE
BEGIN:VEVENT
DTEND;TZID=Europe/Berlin:20260801T101500
UID:69ed2be0ad781
DTSTAMP:20260425T230224
LOCATION:Lungitz - Pregarten - Lungitz
DESCRIPTION:Ich als Lokführer – Mitfahren\, mitdenken\, mitstaunen!\r\n\r\nEin einzigartiger Blick hinter die Kulissen der Bahnwelt\r\n\r\nAm Bahnhof Lungitz geht’s los – mit einer kurzen Einschulung:\r\nDu erhältst wichtige Sicherheitsinfos und lernst\, was ein Lokführer täglich leistet.\r\n\r\nDann steigt die Spannung:\r\nDu darfst im Führerstand mitfahren und hautnah erleben\, wie ein Zug gelenkt und geleitet wird – mit echten Einblicken in Funk\, Signale und Zugtechnik.\r\n\r\nIn Pregarten wartet ein weiteres Highlight auf dich:\r\nDu erkundest den gesamten Zug – vom Führerstand bis zum letzten Waggon.\r\n\r\nWährenddessen wird es auch im Waggon nicht langweilig:\r\nDie Zug-Crew übernimmt die Mission\, den Fahrplan zu „überarbeiten“ – das heißt:\r\n\r\nHaltestellen zählen\r\nDistanzen schätzen\r\nBahnübergänge und Signale beobachten\r\nFahrzeiten notieren\r\n\r\nMit diesen Beobachtungen erstellt die Zug-Crew ein eigenes Mitmach-Protokoll\, das zeigt\, wie aufmerksam sie unterwegs waren – ganz im Stil eines echten Bahnteams.\r\n\r\nZum Abschluss gibt’s für alle:\r\nTeilnahme-Urkunde\r\nÜberraschung zum Mitnehmen\r\nErinnerungsfoto vom Abenteuer auf Schienen\r\n\r\nEin Erlebnis für Kinder\, Jugendliche & Bahnbegeisterte – spannend\, echt und einzigartig!
URL;VALUE=URI:https://www.unser-ferienprogramm.de/ried-riedmark/veranstaltung.php?id=311328
SUMMARY:Ich als Lokführer - Mitfahren\, mitdenken\, mitstaunen! Ein Abenteuer auf Schienen: Von Lungitz nach Pregarten und zurück
DTSTART;TZID=Europe/Berlin:20260801T084500
END:VEVENT

END:VCALENDAR
