BEGIN:VCALENDAR
VERSION:2.0
PRODID:-//hacksw/handcal//NONSGML v1.0//EN
CALSCALE:GREGORIAN
BEGIN:VTIMEZONE
TZID:Europe/Berlin
X-LIC-LOCATION:Europe/Berlin
BEGIN:DAYLIGHT
TZOFFSETFROM:+0100
TZOFFSETTO:+0200
TZNAME:CEST
DTSTART:19700329T020000
RRULE:FREQ=YEARLY;BYDAY=-1SU;BYMONTH=3
END:DAYLIGHT
BEGIN:STANDARD
TZOFFSETFROM:+0200
TZOFFSETTO:+0100
TZNAME:CET
DTSTART:19701025T030000
RRULE:FREQ=YEARLY;BYDAY=-1SU;BYMONTH=10
END:STANDARD
END:VTIMEZONE
BEGIN:VEVENT
DTEND;TZID=Europe/Berlin:20260820T194000
UID:69ed3f52ac623
DTSTAMP:20260426T002522
LOCATION:Buseinstieg bei  Raiffeisenbank  Ried/Rdm. nach Grein Sportplatz & Stadtkino Grein
DESCRIPTION:Mit dem Bus geht`s von der Raiffeisenbank Ried/Rdm. nach Grein Sportplatz Grein & Stadtkino Grein.  \r\n\r\nAbfahrt: \r\n•  13:10 Uhr  Einstieg - Raiffeisenbank Ried/Rdm.\r\n• 14:00 Uhr Bewegung und Spaß am Sportplatz (Stationenbetrieb)\r\n   inkl. Verpflegung\r\n• 17:00 Uhr Kino-Vorstellung im Stadtkino Grein mit Popcorn und Getränk\r\n\r\nFilm: Minions & Monster\r\nKosten:\r\nFür Raiffeisen-Club-Mitglieder: € 14\,00\r\nFür Nicht-Mitglieder: € 19\,00\r\n\r\nMindestalter:\r\nAb 8 Jahren\r\n\r\nAnmeldung JEDERZEIT MÖGLICH:  Online über QR-Code siehe Folder\r\n\r\nBei Fragen kontaktieren Sie bitte Katrin Hoser+43 7262 57474 48223 
URL;VALUE=URI:https://www.unser-ferienprogramm.de/ried-riedmark/veranstaltung.php?id=310558
SUMMARY:Film & Fun Event Der  bewegte Kinospass  - ANMELDUNG ÜBER VERANSTALTER
DTSTART;TZID=Europe/Berlin:20260820T131500
END:VEVENT

END:VCALENDAR
