BEGIN:VCALENDAR
VERSION:2.0
PRODID:-//hacksw/handcal//NONSGML v1.0//EN
CALSCALE:GREGORIAN
BEGIN:VTIMEZONE
TZID:Europe/Berlin
X-LIC-LOCATION:Europe/Berlin
BEGIN:DAYLIGHT
TZOFFSETFROM:+0100
TZOFFSETTO:+0200
TZNAME:CEST
DTSTART:19700329T020000
RRULE:FREQ=YEARLY;BYDAY=-1SU;BYMONTH=3
END:DAYLIGHT
BEGIN:STANDARD
TZOFFSETFROM:+0200
TZOFFSETTO:+0100
TZNAME:CET
DTSTART:19701025T030000
RRULE:FREQ=YEARLY;BYDAY=-1SU;BYMONTH=10
END:STANDARD
END:VTIMEZONE
BEGIN:VEVENT
DTEND;TZID=Europe/Berlin:20260808T160000
UID:69ed3fa6e17fb
DTSTAMP:20260426T002646
LOCATION:Ried in der Riedmark
DESCRIPTION:Am Bauernhof gibt es viel zu sehen und immer etwas zu tun. \r\n\r\nHilf mit in unserem Bauerngarten neue Beete anlegen\, die Pflanzen pflegen und unser eigenes Gemüse und Obst zu ernten und verkosten. \r\n\r\nEbenso gehen wir zu unseren Tieren um sie zu füttern\, sie kennen zu lernen und sie zu streicheln.
URL;VALUE=URI:https://www.unser-ferienprogramm.de/ried-riedmark/veranstaltung.php?id=310414
SUMMARY:GrubauerGut - Erlebnis am Bauernhof
DTSTART;TZID=Europe/Berlin:20260808T140000
END:VEVENT

END:VCALENDAR
