BEGIN:VCALENDAR
VERSION:2.0
PRODID:-//hacksw/handcal//NONSGML v1.0//EN
CALSCALE:GREGORIAN
BEGIN:VTIMEZONE
TZID:Europe/Berlin
X-LIC-LOCATION:Europe/Berlin
BEGIN:DAYLIGHT
TZOFFSETFROM:+0100
TZOFFSETTO:+0200
TZNAME:CEST
DTSTART:19700329T020000
RRULE:FREQ=YEARLY;BYDAY=-1SU;BYMONTH=3
END:DAYLIGHT
BEGIN:STANDARD
TZOFFSETFROM:+0200
TZOFFSETTO:+0100
TZNAME:CET
DTSTART:19701025T030000
RRULE:FREQ=YEARLY;BYDAY=-1SU;BYMONTH=10
END:STANDARD
END:VTIMEZONE
BEGIN:VEVENT
DTEND;TZID=Europe/Berlin:20260715T150000
UID:69ed2bfa37cfd
DTSTAMP:20260425T230250
LOCATION:Pfarrheim Ried/Rdm. - Gruppenraum 2
DESCRIPTION:Töpfern: Du  kannst kreativ sein und töpfern was dir Spaß macht\,... lasse deiner Phantasie freien Lauf. In diesem Kurs dürfen Kinder die Vielfalt des Töpfern kennen lernen und schaffen ihre eigenen kleinen Kunstwerke.
URL;VALUE=URI:https://www.unser-ferienprogramm.de/ried-riedmark/veranstaltung.php?id=288500
SUMMARY: Töpfern - wir erschaffen unser eigenes Kunstwerk/Termin 1
DTSTART;TZID=Europe/Berlin:20260715T130000
END:VEVENT

END:VCALENDAR
