BEGIN:VCALENDAR
VERSION:2.0
PRODID:-//hacksw/handcal//NONSGML v1.0//EN
CALSCALE:GREGORIAN
BEGIN:VTIMEZONE
TZID:Europe/Berlin
X-LIC-LOCATION:Europe/Berlin
BEGIN:DAYLIGHT
TZOFFSETFROM:+0100
TZOFFSETTO:+0200
TZNAME:CEST
DTSTART:19700329T020000
RRULE:FREQ=YEARLY;BYDAY=-1SU;BYMONTH=3
END:DAYLIGHT
BEGIN:STANDARD
TZOFFSETFROM:+0200
TZOFFSETTO:+0100
TZNAME:CET
DTSTART:19701025T030000
RRULE:FREQ=YEARLY;BYDAY=-1SU;BYMONTH=10
END:STANDARD
END:VTIMEZONE
BEGIN:VEVENT
DTEND;TZID=Europe/Berlin:20260819T170000
UID:69ed400f3c4cc
DTSTAMP:20260426T002831
LOCATION:Einschussplatz Marbach ( Nähe Gasthaus Kreuzmühle Marbach 30)
DESCRIPTION:Nach einer kurzen Einführung am Einschuss-Platz werden wir eine Parcoursrunde gehen und mit Pfeil und Bogen schießen.\r\nEin Getränk und eine Süßigkeit gibt es auf der Labstation gratis.
URL;VALUE=URI:https://www.unser-ferienprogramm.de/ried-riedmark/veranstaltung.php?id=269417
SUMMARY:Bogenschießen
DTSTART;TZID=Europe/Berlin:20260819T123000
END:VEVENT

END:VCALENDAR
