BEGIN:VCALENDAR
VERSION:2.0
PRODID:-//hacksw/handcal//NONSGML v1.0//EN
CALSCALE:GREGORIAN
BEGIN:VTIMEZONE
TZID:Europe/Berlin
X-LIC-LOCATION:Europe/Berlin
BEGIN:DAYLIGHT
TZOFFSETFROM:+0100
TZOFFSETTO:+0200
TZNAME:CEST
DTSTART:19700329T020000
RRULE:FREQ=YEARLY;BYDAY=-1SU;BYMONTH=3
END:DAYLIGHT
BEGIN:STANDARD
TZOFFSETFROM:+0200
TZOFFSETTO:+0100
TZNAME:CET
DTSTART:19701025T030000
RRULE:FREQ=YEARLY;BYDAY=-1SU;BYMONTH=10
END:STANDARD
END:VTIMEZONE
BEGIN:VEVENT
DTEND;TZID=Europe/Berlin:20260807T130000
UID:69ed2c9cd7244
DTSTAMP:20260425T230532
LOCATION:Kirchenberg 1\, 4310 Mauthausen
DESCRIPTION:Kreatives Gestalten mit verschiedenen Materialien wie. z.b mit Holz\, Farben\, Stoff\,usw.\r\nWir lassen unserer Phantasie freien Lauf und schaffen mit den vielfältigen Materialien tolle Sachen.\r\n  Sei kreativ und hab Spaß dabei!!!
URL;VALUE=URI:https://www.unser-ferienprogramm.de/ried-riedmark/veranstaltung.php?id=265317
SUMMARY:Kreativ sein macht Spaß! 
DTSTART;TZID=Europe/Berlin:20260807T093000
END:VEVENT

END:VCALENDAR
