BEGIN:VCALENDAR
VERSION:2.0
PRODID:-//hacksw/handcal//NONSGML v1.0//EN
CALSCALE:GREGORIAN
BEGIN:VTIMEZONE
TZID:Europe/Berlin
X-LIC-LOCATION:Europe/Berlin
BEGIN:DAYLIGHT
TZOFFSETFROM:+0100
TZOFFSETTO:+0200
TZNAME:CEST
DTSTART:19700329T020000
RRULE:FREQ=YEARLY;BYDAY=-1SU;BYMONTH=3
END:DAYLIGHT
BEGIN:STANDARD
TZOFFSETFROM:+0200
TZOFFSETTO:+0100
TZNAME:CET
DTSTART:19701025T030000
RRULE:FREQ=YEARLY;BYDAY=-1SU;BYMONTH=10
END:STANDARD
END:VTIMEZONE
BEGIN:VEVENT
DTEND;TZID=Europe/Berlin:20260728T150000
UID:69ed3fd017ead
DTSTAMP:20260426T002728
LOCATION:Pfarrheim Ried/Rdm. - Gruppenraum 2
DESCRIPTION:Töpfern\, in diesem Kurs dürfen Kinder die Vielfalt des Töpfern kennen lernen und schaffen ihre eigenen kleinen Kunstwerke.
URL;VALUE=URI:https://www.unser-ferienprogramm.de/ried-riedmark/veranstaltung.php?id=253151
SUMMARY:Töpfern - wir erschaffen unser eigenes Kunstwerk Termin2
DTSTART;TZID=Europe/Berlin:20260728T130000
END:VEVENT

END:VCALENDAR
