BEGIN:VCALENDAR
VERSION:2.0
PRODID:-//hacksw/handcal//NONSGML v1.0//EN
CALSCALE:GREGORIAN
BEGIN:VTIMEZONE
TZID:Europe/Berlin
X-LIC-LOCATION:Europe/Berlin
BEGIN:DAYLIGHT
TZOFFSETFROM:+0100
TZOFFSETTO:+0200
TZNAME:CEST
DTSTART:19700329T020000
RRULE:FREQ=YEARLY;BYDAY=-1SU;BYMONTH=3
END:DAYLIGHT
BEGIN:STANDARD
TZOFFSETFROM:+0200
TZOFFSETTO:+0100
TZNAME:CET
DTSTART:19701025T030000
RRULE:FREQ=YEARLY;BYDAY=-1SU;BYMONTH=10
END:STANDARD
END:VTIMEZONE
BEGIN:VEVENT
DTEND;TZID=Europe/Berlin:20260720T160000
UID:69ed2c8dab5d4
DTSTAMP:20260425T230517
LOCATION:Sportplatz Ried in der Riedmark\, Schulstrasse 8
DESCRIPTION:5 Tagescamp für Mädchen und Burschen. Erlebe tolle sportliche Tage im Fußballcamp in Ried in der Riedmark.\r\nKosten inkl. Verpflegung (Mittagessen\, Getränke und Obst)\r\n\r\nDie Anmeldung erfolgt beim Veranstalter:\r\n\r\nhttps://www.fussballschule-ooe.at/anmeldung--/camp
URL;VALUE=URI:https://www.unser-ferienprogramm.de/ried-riedmark/veranstaltung.php?id=173465
SUMMARY:Fußballschule OÖ  eine Woche Sommercamp - Anmeldung über Veranstalter
DTSTART;TZID=Europe/Berlin:20260720T090000
END:VEVENT


BEGIN:VEVENT
DTEND;TZID=Europe/Berlin:20260721T160000
UID:69ed2c8dab6081
DTSTAMP:20260425T230517
LOCATION:Sportplatz Ried in der Riedmark\, Schulstrasse 8
DESCRIPTION:5 Tagescamp für Mädchen und Burschen. Erlebe tolle sportliche Tage im Fußballcamp in Ried in der Riedmark.\r\nKosten inkl. Verpflegung (Mittagessen\, Getränke und Obst)\r\n\r\nDie Anmeldung erfolgt beim Veranstalter:\r\n\r\nhttps://www.fussballschule-ooe.at/anmeldung--/camp
URL;VALUE=URI:https://www.unser-ferienprogramm.de/ried-riedmark/veranstaltung.php?id=173465
SUMMARY:Fußballschule OÖ  eine Woche Sommercamp - Anmeldung über Veranstalter
DTSTART;TZID=Europe/Berlin:20260721T090000
END:VEVENT


BEGIN:VEVENT
DTEND;TZID=Europe/Berlin:20260722T160000
UID:69ed2c8dab6122
DTSTAMP:20260425T230517
LOCATION:Sportplatz Ried in der Riedmark\, Schulstrasse 8
DESCRIPTION:5 Tagescamp für Mädchen und Burschen. Erlebe tolle sportliche Tage im Fußballcamp in Ried in der Riedmark.\r\nKosten inkl. Verpflegung (Mittagessen\, Getränke und Obst)\r\n\r\nDie Anmeldung erfolgt beim Veranstalter:\r\n\r\nhttps://www.fussballschule-ooe.at/anmeldung--/camp
URL;VALUE=URI:https://www.unser-ferienprogramm.de/ried-riedmark/veranstaltung.php?id=173465
SUMMARY:Fußballschule OÖ  eine Woche Sommercamp - Anmeldung über Veranstalter
DTSTART;TZID=Europe/Berlin:20260722T090000
END:VEVENT


BEGIN:VEVENT
DTEND;TZID=Europe/Berlin:20260723T160000
UID:69ed2c8dab61a3
DTSTAMP:20260425T230517
LOCATION:Sportplatz Ried in der Riedmark\, Schulstrasse 8
DESCRIPTION:5 Tagescamp für Mädchen und Burschen. Erlebe tolle sportliche Tage im Fußballcamp in Ried in der Riedmark.\r\nKosten inkl. Verpflegung (Mittagessen\, Getränke und Obst)\r\n\r\nDie Anmeldung erfolgt beim Veranstalter:\r\n\r\nhttps://www.fussballschule-ooe.at/anmeldung--/camp
URL;VALUE=URI:https://www.unser-ferienprogramm.de/ried-riedmark/veranstaltung.php?id=173465
SUMMARY:Fußballschule OÖ  eine Woche Sommercamp - Anmeldung über Veranstalter
DTSTART;TZID=Europe/Berlin:20260723T090000
END:VEVENT


BEGIN:VEVENT
DTEND;TZID=Europe/Berlin:20260724T140000
UID:69ed2c8dab6224
DTSTAMP:20260425T230517
LOCATION:Sportplatz Ried in der Riedmark\, Schulstrasse 8
DESCRIPTION:5 Tagescamp für Mädchen und Burschen. Erlebe tolle sportliche Tage im Fußballcamp in Ried in der Riedmark.\r\nKosten inkl. Verpflegung (Mittagessen\, Getränke und Obst)\r\n\r\nDie Anmeldung erfolgt beim Veranstalter:\r\n\r\nhttps://www.fussballschule-ooe.at/anmeldung--/camp
URL;VALUE=URI:https://www.unser-ferienprogramm.de/ried-riedmark/veranstaltung.php?id=173465
SUMMARY:Fußballschule OÖ  eine Woche Sommercamp - Anmeldung über Veranstalter
DTSTART;TZID=Europe/Berlin:20260724T090000
END:VEVENT

END:VCALENDAR
