BEGIN:VCALENDAR
VERSION:2.0
PRODID:-//hacksw/handcal//NONSGML v1.0//EN
CALSCALE:GREGORIAN
BEGIN:VTIMEZONE
TZID:Europe/Berlin
X-LIC-LOCATION:Europe/Berlin
BEGIN:DAYLIGHT
TZOFFSETFROM:+0100
TZOFFSETTO:+0200
TZNAME:CEST
DTSTART:19700329T020000
RRULE:FREQ=YEARLY;BYDAY=-1SU;BYMONTH=3
END:DAYLIGHT
BEGIN:STANDARD
TZOFFSETFROM:+0200
TZOFFSETTO:+0100
TZNAME:CET
DTSTART:19701025T030000
RRULE:FREQ=YEARLY;BYDAY=-1SU;BYMONTH=10
END:STANDARD
END:VTIMEZONE
BEGIN:VEVENT
DTEND;TZID=Europe/Berlin:20260715T110000
UID:69ed3d0885984
DTSTAMP:20260426T001536
LOCATION:Waldzufahrt B 123 Richtung Hochstraß\, Km 13\,6
DESCRIPTION:Kinderabenteuer Wald – Den Wald gemeinsam erforschen\r\nGemeinsam entdecken wir den Wald und seine vielen kleinen Wunder. Wir gehen aufmerksam durch die Natur und suchen am Waldboden Dinge\, mit denen wir spielen und experimentieren können. Zwischen Bäumen\, Pflanzen und spannenden Spuren gibt es viel zu entdecken. Der Wald lädt zum Staunen\, Forschen und Erkunden ein – ein echtes Abenteuer mitten in der Natur!
URL;VALUE=URI:https://www.unser-ferienprogramm.de/ried-riedmark/veranstaltung.php?id=173462
SUMMARY:Kinder Abenteuer Wald Termin 1
DTSTART;TZID=Europe/Berlin:20260715T090000
END:VEVENT

END:VCALENDAR
