BEGIN:VCALENDAR
VERSION:2.0
PRODID:-//hacksw/handcal//NONSGML v1.0//EN
CALSCALE:GREGORIAN
BEGIN:VTIMEZONE
TZID:Europe/Berlin
X-LIC-LOCATION:Europe/Berlin
BEGIN:DAYLIGHT
TZOFFSETFROM:+0100
TZOFFSETTO:+0200
TZNAME:CEST
DTSTART:19700329T020000
RRULE:FREQ=YEARLY;BYDAY=-1SU;BYMONTH=3
END:DAYLIGHT
BEGIN:STANDARD
TZOFFSETFROM:+0200
TZOFFSETTO:+0100
TZNAME:CET
DTSTART:19701025T030000
RRULE:FREQ=YEARLY;BYDAY=-1SU;BYMONTH=10
END:STANDARD
END:VTIMEZONE
BEGIN:VEVENT
DTEND;TZID=Europe/Berlin:20260807T160000
UID:69e676d465e77
DTSTAMP:20260420T205620
LOCATION:56379 Winden
DESCRIPTION:Was euch erwartet:\r\nWilde Tierspuren verstecken sich an verschiedenen Stellen im Wald\, kleine Tierchen leben in der Mitte eines Flusses\, umgestürzte Bäume werden zum Balancier-Parcours\, mit dem Schnitzmesser entstehen praktische Gegenstände\, wir lernen das Feuermachen ohne Streichholz und Feuerzeug und backen natürlich auch ein Stockbrot! \r\n\r\nEine ganze Woche in der Natur bietet unendlich viele schöne Möglichkeiten\, um Abenteuer\, Spielspaß und sogar ein wenig Nervenkitzel zu erleben! Kommt mit uns raus und verbringt eine ganze Ferienwoche mit uns in der Natur! Nebenbei werden wir spielerisch die Natur erkunden und dabei sogar ganz schön viele Rätsel lösen! Aber auch fürs Basteln und Werken oder entspannte Spiele im Schatten bleibt genug Zeit\, wenn die Energie am Nachmittag weniger wird. \r\n\r\nGerne dürft ihr auch eure eigenen Ideen einbringen und wir schauen gemeinsam\, wie wir eure Wünsche umsetzen können!\r\n\r\nWas ihr braucht:\r\nAlle Materialien und Werkzeuge zum Erkunde\, Werken und Basteln bekommt ihr von uns! Ihr braucht aber unbedingt dem Wetter angepasste Kleidung\, die schmutzig werden kann oder auch mal ein Lock bekommen darf\, feste Schuhe und eine eigene Trinkflasche. Denkt gerade an heißen Tagen auch an den Sonnenschutz und eine Kopfbedeckung. Bei Fragen zur Ausrüstung könnt ihr uns jederzeit eine E-Mail schicken.\r\n\r\nFür wen wir das machen:\r\nWenn ihr zwischen 7 und 12 Jahre alt seid\, ist unser Programm genau das Richtige für euch! Jüngere Geschwisterkinder\, die im laufenden Jahr 7 Jahre alt werde\, können ebenfalls teilnehmen. Bei Kindern\, die eine Waldkita besucht haben\, sind ebenfalls Ausnahmen von der Altersgrenze möglich. Sprecht uns hierzu bei Fragen gerne an\, am besten schreibt ihr uns eine E-Mail.\r\n\r\nWer wir sind:\r\nWir - das Team der Wildnisschule Aureole - sind Menschen mit einer echten Begeisterung für die Natur und einer fundierten Ausbildung. Zum einen ist in jedem unserer Programme mindestens eine pädagogische Fachkraft anwesend\, zum anderen mindestens eine Person mit einer beruflichen Weiterbildung im Bereich Natur- und Wildnispädagogik. Somit ist nicht nur Spiel und Spaß garantiert\, sondern auch ein tiefes Eintauchen in die Natur und das Erleben von Zusammenhängen und Kreisläufen. Unsere pädagogischen Fachkräfte sind zudem immer mit Herz und Seele für die Kids und Jugendlichen da\, sodass auch Herausforderungen bestens gemeistert werden können. \r\n\r\nOb beim Schnitzen oder Feuermachen: Sicherheit geht vor! Bei besonderen Programmpunkten erhalten alle Teilnehmer zunächst eine altersgerechte Einführung in die Sicherheitsregeln\, damit Unfälle erst gar nicht passieren.\r\n\r\nRahmenbedingungen:\r\n\r\nDatum: 03.-07. August 2026\, KW 32\r\n\r\nUhrzeit: Bringzeit ist von 8-9 Uhr\, Abholzeit von 15.30 - 16 Uhr \r\n\r\nOrt: 56379 Winden - der genaue Treffpunkt wird euch nach der Anmeldung mitgeteilt \r\n\r\nVerpflegung: bitte bringt zwei Lunchboxen pro Tag mit\, eine fürs Frühstück\, eine fürs Mittagessen \r\n\r\nKosten: 230 Euro pro Kind\, 20 Euro Rabatt für jedes weitere Geschwisterkind\, Sozialplätze auf Anfrage verfügbar. \r\n\r\nEine Anzahlung i.H.v. 30 Euro ist binnen zwei Wochen nach Anmeldung fällig. Erst mit der Anzahlung wird der Platz reserviert. Der Restbetrag ist bis 14 Tage vor Start des Programms fällig. Ausnahmen sind nach Absprache möglich.  \r\n\r\nEs gelten darüber hinaus die AGB's unter https://www.einfach-draussen-sein.de/privacy\r\n\r\nGerne kann eine Rechnung ausgehändigt werden\, denn Betreuungkosten sind häufig steuerlich absetzbar.
URL;VALUE=URI:https://www.unser-ferienprogramm.de/rhein-lahn-kreis/veranstaltung.php?id=310799
SUMMARY:Wildnis-Wissen-Woche für Kids von 7-12 Jahren 
DTSTART;TZID=Europe/Berlin:20260803T080000
END:VEVENT

END:VCALENDAR
